BEGIN:VCALENDAR
VERSION:2.0
PRODID:-//wp-events-plugin.com//7.2.3.1//EN
TZID:Europe/Berlin
X-WR-TIMEZONE:Europe/Berlin
BEGIN:VEVENT
UID:375@xc-run.de
DTSTART;TZID=Europe/Berlin;VALUE=DATE:20260724
DTEND;TZID=Europe/Berlin;VALUE=DATE:20260726
DTSTAMP:20260316T115108Z
URL:https://xc-run.de/events/eventkalender/3kings-3hills-internationales-t
 rail-festival-de-cz-aut/
SUMMARY:3KINGS 3HILLS
DESCRIPTION:Knackige Uphills\, fetzige Downhills\, flowige Trails und hoch 
 technische Passagen – umgeben vom allerschönsten Ausblick im Dreilände
 reck – im Bayerischen Wald und Böhmerwald. Ein eingeschworener Haufen\,
  leidenschaftlicher Trailrunner hat sich zusammengetan und die besten Stre
 cken für Euch gesucht. Als Neuerung 2025 steht ein unglaublicher 111 km l
 anger Ultratrail mit 4.467 HM zur Auswahl!
ATTACH;FMTTYPE=image/jpeg:https://xc-run.de/wp-content/uploads/2025/07/Kal
 enderOhne.jpg
CATEGORIES:Trailevents
LOCATION:Haidmühle\, Langreuter Straße\, Haidmühle\, Bayern\, 94145\, Ba
 yerischer Wald\, Deutschland
GEO:48.864184;13.734815
X-APPLE-STRUCTURED-LOCATION;VALUE=URI;X-ADDRESS=Langreuter Straße\, Haidm
 ühle\, Bayern\, 94145\, Bayerischer Wald\, Deutschland;X-APPLE-RADIUS=100
 ;X-TITLE=Haidmühle:geo:48.864184,13.734815
END:VEVENT
BEGIN:VTIMEZONE
TZID:Europe/Berlin
X-LIC-LOCATION:Europe/Berlin
BEGIN:DAYLIGHT
DTSTART:20260329T030000
TZOFFSETFROM:+0100
TZOFFSETTO:+0200
TZNAME:CEST
END:DAYLIGHT
END:VTIMEZONE
END:VCALENDAR