BEGIN:VCALENDAR
VERSION:2.0
PRODID:-//wp-events-plugin.com//7.2.3.1//EN
TZID:Europe/Berlin
X-WR-TIMEZONE:Europe/Berlin
BEGIN:VEVENT
UID:543@xc-run.de
DTSTART;TZID=Europe/Berlin;VALUE=DATE:20260522
DTEND;TZID=Europe/Berlin;VALUE=DATE:20260524
DTSTAMP:20251020T191809Z
URL:https://xc-run.de/events/eventkalender/489309/
SUMMARY:North Trails Hike & Run
DESCRIPTION:Im weitläufigen Grenzgebiet Deutschland – Österreich – 
 Tschechien gibt es ab 2026 einen neuen Trailevent.  Hier wurde in enger Z
 usammenarbeit durch das Stift Schlägl gemeinsam mit Christoph Hain ein ei
 nzigartiges Trail-Wege-Netz geschaffen\, das nun bei den North Trails Hike
  & Run im Focus steht. Bei fünf unterschiedlichen Distanzen zwischen 12 k
 m und 70 km kann man die Trails des Böhmerwaldes im Grenzgebiet erobern u
 nd dabei unvergessliche Momente erleben.
ATTACH;FMTTYPE=image/jpeg:https://xc-run.de/wp-content/uploads/2025/07/Kal
 enderOhne.jpg
CATEGORIES:Trailevents
LOCATION:Stift Schlägl\, Schaubergstraße\, Schlägl\, Österreich
GEO:48.636299;13.971697
X-APPLE-STRUCTURED-LOCATION;VALUE=URI;X-ADDRESS=Schaubergstraße\, Schlägl
 \, Österreich;X-APPLE-RADIUS=100;X-TITLE=Stift Schlägl:geo:48.636299,13.
 971697
END:VEVENT
BEGIN:VTIMEZONE
TZID:Europe/Berlin
X-LIC-LOCATION:Europe/Berlin
BEGIN:DAYLIGHT
DTSTART:20260329T030000
TZOFFSETFROM:+0100
TZOFFSETTO:+0200
TZNAME:CEST
END:DAYLIGHT
END:VTIMEZONE
END:VCALENDAR