BEGIN:VCALENDAR
VERSION:2.0
PRODID:-//wp-events-plugin.com//7.2.3.1//EN
TZID:Europe/Berlin
X-WR-TIMEZONE:Europe/Berlin
BEGIN:VEVENT
UID:552@xc-run.de
DTSTART;TZID=Europe/Berlin;VALUE=DATE:20260613
DTEND;TZID=Europe/Berlin;VALUE=DATE:20260615
DTSTAMP:20251115T195230Z
URL:https://xc-run.de/events/eventkalender/aare-lauf-aare-trail/
SUMMARY:Aare Lauf & Aare Trail
DESCRIPTION:Der Aare Lauf & Aare Trail ist ein einzigartiges Laufevent im H
 erzen des Aargaus\, das jedes Jahr über 1.500 Läuferinnen und Läufer au
 s der ganzen Schweiz und dem Ausland anzieht. Mit dem Aare Trail erweitert
  sich das Event um zwei spannende Distanzen über den Jura-Höhenweg: Der 
 30 km Trail ist perfekt für Trail-Einsteigerinnen und -Einsteiger\, währ
 end der 50 km Trail über den höchsten Punkt des Kantons Aargau führt un
 d erfahrenen Läuferinnen und Läufern ein echtes Abenteuer mit Waldpfaden
 \, Höhenmetern und grandiosen Ausblicken bietet.
ATTACH;FMTTYPE=image/jpeg:https://xc-run.de/wp-content/uploads/2025/07/Kal
 enderOhne.jpg
CATEGORIES:Trailevents
LOCATION:Brugg\, Museumstraße\, Brugg\, Schweiz
GEO:47.48449;8.203265
X-APPLE-STRUCTURED-LOCATION;VALUE=URI;X-ADDRESS=Museumstraße\, Brugg\, Sch
 weiz;X-APPLE-RADIUS=100;X-TITLE=Brugg:geo:47.48449,8.203265
END:VEVENT
BEGIN:VTIMEZONE
TZID:Europe/Berlin
X-LIC-LOCATION:Europe/Berlin
BEGIN:DAYLIGHT
DTSTART:20260329T030000
TZOFFSETFROM:+0100
TZOFFSETTO:+0200
TZNAME:CEST
END:DAYLIGHT
END:VTIMEZONE
END:VCALENDAR