BEGIN:VCALENDAR
VERSION:2.0
PRODID:-//wp-events-plugin.com//7.2.3.1//EN
TZID:Europe/Berlin
X-WR-TIMEZONE:Europe/Berlin
BEGIN:VEVENT
UID:505@xc-run.de
DTSTART;TZID=Europe/Berlin;VALUE=DATE:20260424
DTEND;TZID=Europe/Berlin;VALUE=DATE:20260426
DTSTAMP:20251219T202007Z
URL:https://xc-run.de/events/eventkalender/albside-up-the-hill/
SUMMARY:albside - Up the Hill
DESCRIPTION:Beim albside - Up the Hill geht es über die Höhenzüge westli
 ch von Margrethausen. In einem wilden Ritt geht es bergauf- und ab über k
 urze knackige Anstiege und ebenso atemberaubende Downhills auf der Schwäb
 ischen Alb.
ATTACH;FMTTYPE=image/jpeg:https://xc-run.de/wp-content/uploads/2025/07/Kal
 enderOhne.jpg
CATEGORIES:Trailevents
LOCATION:Turn- und Festhalle Margrethausen\, Burgfelder Steige 5\, Albstadt
  Margrethausen\, Baden-Württemberg\, 72459\, Schwäbische Alb\, Deutschla
 nd
GEO:48.229911;8.966556
X-APPLE-STRUCTURED-LOCATION;VALUE=URI;X-ADDRESS=Burgfelder Steige 5\, Albst
 adt Margrethausen\, Baden-Württemberg\, 72459\, Schwäbische Alb\, Deutsc
 hland;X-APPLE-RADIUS=100;X-TITLE=Turn- und Festhalle Margrethausen:geo:48.
 229911,8.966556
END:VEVENT
BEGIN:VTIMEZONE
TZID:Europe/Berlin
X-LIC-LOCATION:Europe/Berlin
BEGIN:DAYLIGHT
DTSTART:20260329T030000
TZOFFSETFROM:+0100
TZOFFSETTO:+0200
TZNAME:CEST
END:DAYLIGHT
END:VTIMEZONE
END:VCALENDAR