BEGIN:VCALENDAR
VERSION:2.0
PRODID:-//wp-events-plugin.com//7.2.3.1//EN
TZID:Europe/Berlin
X-WR-TIMEZONE:Europe/Berlin
BEGIN:VEVENT
UID:421@xc-run.de
DTSTART;TZID=Europe/Berlin;VALUE=DATE:20260627
DTEND;TZID=Europe/Berlin;VALUE=DATE:20260629
DTSTAMP:20251028T203103Z
URL:https://xc-run.de/events/eventkalender/aletsch-halbmarathon/
SUMMARY:Aletsch Halbmarathon
DESCRIPTION:Von 1950 m hinauf bis auf 2650 m Höhe - das ist der Aletsch Ha
 lbmarathon in Zahlen. Der Streckenverlauf gilt lauftechnisch als echter Le
 ckerbissen. Zudem punktet die alpine Berglaufstrecke im UNESCO Welterbe m
 it erhabenem Blick auf den Grossen Aletschgletscher und die Viertausender 
 des Wallis.
ATTACH;FMTTYPE=image/jpeg:https://xc-run.de/wp-content/uploads/2025/07/Kal
 enderOhne.jpg
CATEGORIES:Trailevents
LOCATION:Bergstation Bettmeralp- Bahnen\, Bettmeralp\, Bettmeralp\, Schweiz
GEO:46.390499;8.06188
X-APPLE-STRUCTURED-LOCATION;VALUE=URI;X-ADDRESS=Bettmeralp\, Bettmeralp\, S
 chweiz;X-APPLE-RADIUS=100;X-TITLE=Bergstation Bettmeralp- Bahnen:geo:46.39
 0499,8.06188
END:VEVENT
BEGIN:VTIMEZONE
TZID:Europe/Berlin
X-LIC-LOCATION:Europe/Berlin
BEGIN:DAYLIGHT
DTSTART:20260329T030000
TZOFFSETFROM:+0100
TZOFFSETTO:+0200
TZNAME:CEST
END:DAYLIGHT
END:VTIMEZONE
END:VCALENDAR