BEGIN:VCALENDAR
VERSION:2.0
PRODID:-//wp-events-plugin.com//7.2.3.1//EN
TZID:Europe/Berlin
X-WR-TIMEZONE:Europe/Berlin
BEGIN:VEVENT
UID:378@xc-run.de
DTSTART;TZID=Europe/Berlin;VALUE=DATE:20260808
DTEND;TZID=Europe/Berlin;VALUE=DATE:20260810
DTSTAMP:20260102T204041Z
URL:https://xc-run.de/events/eventkalender/allgaeu-panorama-marathon-2/
SUMMARY:Allgäu Panorama Marathon
DESCRIPTION:Der Klassiker aus Sonthofen geht in die 19. Runde. Auf fünf un
 terschiedlichen Rennen mit Distanzen von 70 km bis 5 km kann man das Allg
 äu rund um Sonthofen erkunden. Die Ultradistanz mit knapp 70 km überwind
 et 3.119 HM im Anstieg und führt  in einem Rundkurs von Sonthofen bis na
 ch Oberstdorf und Riezlern im Kleinwalsertal.
ATTACH;FMTTYPE=image/jpeg:https://xc-run.de/wp-content/uploads/2025/07/Kal
 enderOhne.jpg
CATEGORIES:Trailevents
LOCATION:Sonthofen\, Allgäu Outlet\, Sonthofen\, Deutschland
GEO:47.5105294;10.274851099999978
X-APPLE-STRUCTURED-LOCATION;VALUE=URI;X-ADDRESS=Allgäu Outlet\, Sonthofen\
 , Deutschland;X-APPLE-RADIUS=100;X-TITLE=Sonthofen:geo:47.5105294,10.27485
 1099999978
END:VEVENT
BEGIN:VTIMEZONE
TZID:Europe/Berlin
X-LIC-LOCATION:Europe/Berlin
BEGIN:DAYLIGHT
DTSTART:20260329T030000
TZOFFSETFROM:+0100
TZOFFSETTO:+0200
TZNAME:CEST
END:DAYLIGHT
END:VTIMEZONE
END:VCALENDAR