BEGIN:VCALENDAR
VERSION:2.0
PRODID:-//wp-events-plugin.com//7.2.3.1//EN
TZID:Europe/Berlin
X-WR-TIMEZONE:Europe/Berlin
BEGIN:VEVENT
UID:420@xc-run.de
DTSTART;TZID=Europe/Berlin;VALUE=DATE:20260515
DTEND;TZID=Europe/Berlin;VALUE=DATE:20260517
DTSTAMP:20251027T195844Z
URL:https://xc-run.de/events/eventkalender/alpenstadt-city-trail-bad-reich
 enhall/
SUMMARY:Alpenstadt City & Trail Bad Reichenhall
DESCRIPTION:Auch 2026 wird der Hochstaufen Trail als kurzes\, schnelles und
  technisches Rennen das Herzstück des Alpenstadt City & Trail sein. Daneb
 en wird ein 5\,5 km und ein 9\,7 km langer Citytrail angeboten.
ATTACH;FMTTYPE=image/jpeg:https://xc-run.de/wp-content/uploads/2025/07/Kal
 enderOhne.jpg
CATEGORIES:Trailevents
LOCATION:Bad Reichenhall\, Rathausplatz\, Bad Reichenhall\, Bayern\, Oberla
 nd\, Deutschland
GEO:47.722064;12.876243
X-APPLE-STRUCTURED-LOCATION;VALUE=URI;X-ADDRESS=Rathausplatz\, Bad Reichenh
 all\, Bayern\, Oberland\, Deutschland;X-APPLE-RADIUS=100;X-TITLE=Bad Reich
 enhall:geo:47.722064,12.876243
END:VEVENT
BEGIN:VTIMEZONE
TZID:Europe/Berlin
X-LIC-LOCATION:Europe/Berlin
BEGIN:DAYLIGHT
DTSTART:20260329T030000
TZOFFSETFROM:+0100
TZOFFSETTO:+0200
TZNAME:CEST
END:DAYLIGHT
END:VTIMEZONE
END:VCALENDAR