BEGIN:VCALENDAR
VERSION:2.0
PRODID:-//wp-events-plugin.com//7.2.3.1//EN
TZID:Europe/Berlin
X-WR-TIMEZONE:Europe/Berlin
BEGIN:VEVENT
UID:381@xc-run.de
DTSTART;TZID=Europe/Berlin;VALUE=DATE:20260918
DTEND;TZID=Europe/Berlin;VALUE=DATE:20260920
DTSTAMP:20260416T083047Z
URL:https://xc-run.de/events/eventkalender/arberland-ultra-trail/
SUMMARY:ARBERLAND Ultra Trail
DESCRIPTION:Zum zehnjährigen Jubiläum gab es 2025 beim Arberland Ultra Tr
 ail einige Neuerungen: Neben den bisher drei unterschiedlichen Distanzen w
 urde der 35 km langen Schachtenbach Trail für Einsteiger und der 100 km l
 ange Arberland Ultra Trail für ambitionierte Ultraläufer angeboten. Beid
 e Strecken fanden großen Zuspruch\, so dass diese auch 2026 angeboten wer
 den. Traditionell ist der Arberland Ultra Trail ein Event für die ganze F
 amilie und auch dieses Jahr werden sich die Organisatoren einiges einfalle
 n lassen.
ATTACH;FMTTYPE=image/jpeg:https://xc-run.de/wp-content/uploads/2025/07/Kal
 enderOhne.jpg
CATEGORIES:Trailevents
LOCATION:Skistadion Hohenzollern\, Arberseestraße 40\, Bayerisch Eisenstei
 n\, Deutschland
GEO:49.09789079999999;13.161060399999997
X-APPLE-STRUCTURED-LOCATION;VALUE=URI;X-ADDRESS=Arberseestraße 40\, Bayeri
 sch Eisenstein\, Deutschland;X-APPLE-RADIUS=100;X-TITLE=Skistadion Hohenzo
 llern:geo:49.09789079999999,13.161060399999997
END:VEVENT
BEGIN:VTIMEZONE
TZID:Europe/Berlin
X-LIC-LOCATION:Europe/Berlin
BEGIN:DAYLIGHT
DTSTART:20260329T030000
TZOFFSETFROM:+0100
TZOFFSETTO:+0200
TZNAME:CEST
END:DAYLIGHT
END:VTIMEZONE
END:VCALENDAR