BEGIN:VCALENDAR
VERSION:2.0
PRODID:-//wp-events-plugin.com//7.2.3.1//EN
TZID:Europe/Berlin
X-WR-TIMEZONE:Europe/Berlin
BEGIN:VEVENT
UID:507@xc-run.de
DTSTART;TZID=Europe/Berlin;VALUE=DATE:20260530
DTEND;TZID=Europe/Berlin;VALUE=DATE:20260531
DTSTAMP:20251027T194951Z
URL:https://xc-run.de/events/eventkalender/austria-backyard-ultra-loosdorf
 -trail/
SUMMARY:Austria Backyard Ultra - Loosdorf Trail
DESCRIPTION:Der Loosdorf Trail bildet den Auftakt zur Austria Backyard Ultr
 a Serie und ist der erste Backyard im schönen Mostviertel. Diese Veransta
 ltung findet in Loosdorf/Albrechtsberg an der Pielach\, in der Nähe der F
 irma Prinz\, statt. Der Modus des Backyard Ultra ist ganz einfach. Zu jede
 r Stunde starten die Läufer in eine 6\,706 km (=4\,167 Meilen) lange Stre
 cke. Dafür hat man exakt eine Stunde Zeit. Wer die Runde nicht rechtzeiti
 g beendet hat und nicht wieder am Start steht\, ist raus! Das Event läuft
  so lange\, bis nur noch ein Läufer auf der Strecke ist.  Das Rennen fin
 det nach den offiziellen Backyard Ultra – Regularien des amerikanischen 
 Originals statt. Mit den etwa 150 Höhenmetern ist die Strecke durchaus an
 spruchsvoll\, doch der Großteil verläuft auf Singletrails bzw. Trails.
ATTACH;FMTTYPE=image/jpeg:https://xc-run.de/wp-content/uploads/2025/07/Kal
 enderOhne.jpg
CATEGORIES:Backyard
LOCATION:Loosdorf\, Ofenlochstraße\, Albrechtsberg an der Pielach\, Nieder
 österreich\, Österreich
GEO:48.208649;15.395082
X-APPLE-STRUCTURED-LOCATION;VALUE=URI;X-ADDRESS=Ofenlochstraße\, Albrechts
 berg an der Pielach\, Niederösterreich\, Österreich;X-APPLE-RADIUS=100;X
 -TITLE=Loosdorf:geo:48.208649,15.395082
END:VEVENT
BEGIN:VTIMEZONE
TZID:Europe/Berlin
X-LIC-LOCATION:Europe/Berlin
BEGIN:DAYLIGHT
DTSTART:20260329T030000
TZOFFSETFROM:+0100
TZOFFSETTO:+0200
TZNAME:CEST
END:DAYLIGHT
END:VTIMEZONE
END:VCALENDAR