BEGIN:VCALENDAR
VERSION:2.0
PRODID:-//wp-events-plugin.com//7.2.3.1//EN
TZID:Europe/Berlin
X-WR-TIMEZONE:Europe/Berlin
BEGIN:VEVENT
UID:508@xc-run.de
DTSTART;TZID=Europe/Berlin;VALUE=DATE:20260514
DTEND;TZID=Europe/Berlin;VALUE=DATE:20260515
DTSTAMP:20251027T200157Z
URL:https://xc-run.de/events/eventkalender/austria-backyard-ultra-ternberg
 -trail/
SUMMARY:Austria Backyard Ultra - Ternberg Trail
DESCRIPTION:Der Ternberg Trail ist der erste Trail Backyard Ultra Österre
 ichs. Diese Veranstaltung findet in Ternberg im Bundesland Oberösterreich
  statt. Der Modus des Backyard Ultra ist ganz einfach. Zu jeder Stunde sta
 rten die Läufer in eine 6\,706 km (=4\,167 Meilen) lange Strecke. Dafür 
 hat man exakt eine Stunde Zeit. Wer die Runde nicht rechtzeitig beendet ha
 t und nicht wieder am Start steht\, ist raus! Das Event läuft so lange\, 
 bis nur noch ein Läufer auf der Strecke ist.  Das Rennen findet nach den
  offiziellen Backyard Ultra – Regularien des amerikanischen Originals st
 att.
ATTACH;FMTTYPE=image/jpeg:https://xc-run.de/wp-content/uploads/2025/07/Kal
 enderOhne.jpg
CATEGORIES:Backyard
LOCATION:Ternberg\, Spielfeldstraße 12\, Ternberg\, Oberösterreich\, Öst
 erreich
GEO:47.940745;14.358414
X-APPLE-STRUCTURED-LOCATION;VALUE=URI;X-ADDRESS=Spielfeldstraße 12\, Ternb
 erg\, Oberösterreich\, Österreich;X-APPLE-RADIUS=100;X-TITLE=Ternberg:ge
 o:47.940745,14.358414
END:VEVENT
BEGIN:VTIMEZONE
TZID:Europe/Berlin
X-LIC-LOCATION:Europe/Berlin
BEGIN:DAYLIGHT
DTSTART:20260329T030000
TZOFFSETFROM:+0100
TZOFFSETTO:+0200
TZNAME:CEST
END:DAYLIGHT
END:VTIMEZONE
END:VCALENDAR