BEGIN:VCALENDAR
VERSION:2.0
PRODID:-//wp-events-plugin.com//7.2.3.1//EN
TZID:Europe/Berlin
X-WR-TIMEZONE:Europe/Berlin
BEGIN:VEVENT
UID:280@xc-run.de
DTSTART;TZID=Europe/Berlin;VALUE=DATE:20261003
DTEND;TZID=Europe/Berlin;VALUE=DATE:20261005
DTSTAMP:20251120T201854Z
URL:https://xc-run.de/events/eventkalender/black-forest-trailrun-masters-2
 /
SUMMARY:Black Forest Trailrun Masters
DESCRIPTION:Auch 2026 finden die Black Forest Trailrun Masters wieder statt
 . Neben dem Masters Ultra- Etappenlauf werden zwei Kurzstrecken\, ein Prol
 og und ein Kinderlauf angeboten. Weitere Infos zur Veranstaltung werden in
  Kürze auf der Website veröffentlicht.
ATTACH;FMTTYPE=image/jpeg:https://xc-run.de/wp-content/uploads/2025/07/Kal
 enderOhne.jpg
CATEGORIES:Etappenrennen,Trailevents
LOCATION:Elzach\, Nikolausstraße 5\, Elzach\, Baden-Württemberg\, 79215\,
  Schwarzwald\, Deutschland
GEO:48.17247;8.06908
X-APPLE-STRUCTURED-LOCATION;VALUE=URI;X-ADDRESS=Nikolausstraße 5\, Elzach\
 , Baden-Württemberg\, 79215\, Schwarzwald\, Deutschland;X-APPLE-RADIUS=10
 0;X-TITLE=Elzach:geo:48.17247,8.06908
END:VEVENT
BEGIN:VTIMEZONE
TZID:Europe/Berlin
X-LIC-LOCATION:Europe/Berlin
BEGIN:DAYLIGHT
DTSTART:20260329T030000
TZOFFSETFROM:+0100
TZOFFSETTO:+0200
TZNAME:CEST
END:DAYLIGHT
END:VTIMEZONE
END:VCALENDAR