BEGIN:VCALENDAR
VERSION:2.0
PRODID:-//wp-events-plugin.com//7.2.3.1//EN
TZID:Europe/Berlin
X-WR-TIMEZONE:Europe/Berlin
BEGIN:VEVENT
UID:585@xc-run.de
DTSTART;TZID=Europe/Berlin;VALUE=DATE:20260724
DTEND;TZID=Europe/Berlin;VALUE=DATE:20260726
DTSTAMP:20260417T133631Z
URL:https://xc-run.de/events/eventkalender/blefjells-beste/
SUMMARY:Blefjells Beste
DESCRIPTION:Blefjells Beste ist ein Trailrunning-Rennen im Blefjell-Gebirge
  in der rauen Wildnis Norwegens. Entlang der Strecke passieren Sie viele d
 er spektakulärsten Orte des „Store-Ble“.
ATTACH;FMTTYPE=image/jpeg:https://xc-run.de/wp-content/uploads/2025/07/Kal
 enderOhne.jpg
CATEGORIES:Trailevents
LOCATION:Blefjell\, Blefjell\, Norwegen
GEO:59.821874;9.221075
X-APPLE-STRUCTURED-LOCATION;VALUE=URI;X-ADDRESS=Blefjell\, Norwegen;X-APPLE
 -RADIUS=100;X-TITLE=Blefjell:geo:59.821874,9.221075
END:VEVENT
BEGIN:VTIMEZONE
TZID:Europe/Berlin
X-LIC-LOCATION:Europe/Berlin
BEGIN:DAYLIGHT
DTSTART:20260329T030000
TZOFFSETFROM:+0100
TZOFFSETTO:+0200
TZNAME:CEST
END:DAYLIGHT
END:VTIMEZONE
END:VCALENDAR