BEGIN:VCALENDAR
VERSION:2.0
PRODID:-//wp-events-plugin.com//7.2.3.1//EN
TZID:Europe/Berlin
X-WR-TIMEZONE:Europe/Berlin
BEGIN:VEVENT
UID:534@xc-run.de
DTSTART;TZID=Europe/Berlin;VALUE=DATE:20260705
DTEND;TZID=Europe/Berlin;VALUE=DATE:20260706
DTSTAMP:20251120T200805Z
URL:https://xc-run.de/events/eventkalender/buescherl-trail/
SUMMARY:Büscherl Trail
DESCRIPTION:Diese liebevoll gestaltete Veranstaltung entführt die Läuferi
 nnen und Läufer in den Falkensteiner Vorwald\, einen hügeligen Teil des 
 Bayerischen Waldes. Der ortsansässige Sportverein Falkenfels ist Organisa
 tor des Büscherl Trails.
ATTACH;FMTTYPE=image/jpeg:https://xc-run.de/wp-content/uploads/2025/07/Kal
 enderOhne.jpg
CATEGORIES:Trailevents
LOCATION:Falkenfels\, Sportplatz\, Falkenfels\, Bayern\, Deutschland
GEO:49.002573;12.593856
X-APPLE-STRUCTURED-LOCATION;VALUE=URI;X-ADDRESS=Sportplatz\, Falkenfels\, B
 ayern\, Deutschland;X-APPLE-RADIUS=100;X-TITLE=Falkenfels:geo:49.002573,12
 .593856
END:VEVENT
BEGIN:VTIMEZONE
TZID:Europe/Berlin
X-LIC-LOCATION:Europe/Berlin
BEGIN:DAYLIGHT
DTSTART:20260329T030000
TZOFFSETFROM:+0100
TZOFFSETTO:+0200
TZNAME:CEST
END:DAYLIGHT
END:VTIMEZONE
END:VCALENDAR