BEGIN:VCALENDAR
VERSION:2.0
PRODID:-//wp-events-plugin.com//7.2.3.1//EN
TZID:Europe/Berlin
X-WR-TIMEZONE:Europe/Berlin
BEGIN:VEVENT
UID:305@xc-run.de
DTSTART;TZID=Europe/Berlin;VALUE=DATE:20260423
DTEND;TZID=Europe/Berlin;VALUE=DATE:20260426
DTSTAMP:20251020T191615Z
URL:https://xc-run.de/events/eventkalender/canyons-endurance-runs-by-utmb/
SUMMARY:Canyons Endurance Runs by UTMB
DESCRIPTION:Die Canyons Endurance Runs von UTMB® beginnen in der historisc
 hen Goldgräberstadt Auburn\, der Geburtsstätte der Mountain Ultras\, in 
 den Ausläufern der Sierra Nevada im Norden Kaliforniens. Dieses Rennen is
 t ein Qualifikationslauf für die legendären UTMB World Series Finals und
  den Western States Endurance Run. Darüber hinaus ist die Canyons 100K-Di
 stanz ein Western States 100 Golden Ticket-Rennen\, bei dem die beiden bes
 ten Läuferinnen und Läufer direkt zum Western States 100 zugelassen werd
 en.
ATTACH;FMTTYPE=image/jpeg:https://xc-run.de/wp-content/uploads/2025/07/UTM
 B.jpg
CATEGORIES:UTMB World Series
LOCATION:Auburn\, Auburn\, Auburn\, Kalifornien\, Sierra Nevada\, Vereinigt
 e Staaten
GEO:38.896565;-121.07689
X-APPLE-STRUCTURED-LOCATION;VALUE=URI;X-ADDRESS=Auburn\, Auburn\, Kaliforni
 en\, Sierra Nevada\, Vereinigte Staaten;X-APPLE-RADIUS=100;X-TITLE=Auburn:
 geo:38.896565,-121.07689
END:VEVENT
BEGIN:VTIMEZONE
TZID:Europe/Berlin
X-LIC-LOCATION:Europe/Berlin
BEGIN:DAYLIGHT
DTSTART:20260329T030000
TZOFFSETFROM:+0100
TZOFFSETTO:+0200
TZNAME:CEST
END:DAYLIGHT
END:VTIMEZONE
END:VCALENDAR