BEGIN:VCALENDAR
VERSION:2.0
PRODID:-//wp-events-plugin.com//7.2.3.1//EN
TZID:Europe/Berlin
X-WR-TIMEZONE:Europe/Berlin
BEGIN:VEVENT
UID:289@xc-run.de
DTSTART;TZID=Europe/Berlin;VALUE=DATE:20260626
DTEND;TZID=Europe/Berlin;VALUE=DATE:20260628
DTSTAMP:20251012T190705Z
URL:https://xc-run.de/events/eventkalender/cervino-matterhorn-ultrarace/
SUMMARY:Cervino Matterhorn Ultra Race (CMUR)
DESCRIPTION:Das Cervino Matterhorn Ultra Race (CMUR) ist eine Veranstaltung
  mit vier verschiedene Distanzen\, die das Matterhorn aus verschiedenen Bl
 ickwinkeln zeigt. Alle Rennen finden über 1900 m statt. Die Strecken sind
  so unterschiedlich wie die Läuferinnen und Läufer es sind. Sie reichen 
 von der kürzesten Strecke über 15 km\, die einen Blick auf die italienis
 che Seite des Matterhorns bietet\, bis hin zu 70 km\, spannenden Rennen zu
  zweit\, dessen Strecke auf Wegen und Gletschern um das Matterhorn führt 
 und zu den verschiedensten Momenten einen atemberaubenden Blick auf die vi
 er Seiten des legendären Berges bietet.
ATTACH;FMTTYPE=image/jpeg:https://xc-run.de/wp-content/uploads/2025/07/Kal
 enderOhne.jpg
CATEGORIES:Trailevents
LOCATION:Breuil Cervinia\, Via Bardoney\, Breuil Cervinia\, Aostatal\, 1102
 1\, Italien
GEO:45.933684;7.635718
X-APPLE-STRUCTURED-LOCATION;VALUE=URI;X-ADDRESS=Via Bardoney\, Breuil Cervi
 nia\, Aostatal\, 11021\, Italien;X-APPLE-RADIUS=100;X-TITLE=Breuil Cervini
 a:geo:45.933684,7.635718
END:VEVENT
BEGIN:VTIMEZONE
TZID:Europe/Berlin
X-LIC-LOCATION:Europe/Berlin
BEGIN:DAYLIGHT
DTSTART:20260329T030000
TZOFFSETFROM:+0100
TZOFFSETTO:+0200
TZNAME:CEST
END:DAYLIGHT
END:VTIMEZONE
END:VCALENDAR