BEGIN:VCALENDAR
VERSION:2.0
PRODID:-//wp-events-plugin.com//7.2.3.1//EN
TZID:Europe/Berlin
X-WR-TIMEZONE:Europe/Berlin
BEGIN:VEVENT
UID:547@xc-run.de
DTSTART;TZID=Europe/Berlin;VALUE=DATE:20260828
DTEND;TZID=Europe/Berlin;VALUE=DATE:20260830
DTSTAMP:20251030T091854Z
URL:https://xc-run.de/events/eventkalender/churfirsten-trail-run/
SUMMARY:Churfirsten Trail Run
DESCRIPTION:Die Ostschweizer Region Toggenburg mit der einzigartigen Bergke
 tte der Churfirsten ist die ideale Kulisse für einen unvergesslichen Lauf
 event. Die Churfirsten bestehen aus 13 Gipfeln die wie eine Perlenkette an
 einandergereiht sind und so einen spektakulären Anblick bieten. Auf drei 
 unterschiedlichen Distanzen zwischen 14km und 43km erkundet man laufenderw
 eise diese Gegend und sammelt so auf die schöne Art und Weise bis zu 3.00
 5 Höhenmeter.
ATTACH;FMTTYPE=image/jpeg:https://xc-run.de/wp-content/uploads/2025/07/Kal
 enderOhne.jpg
CATEGORIES:Trailevents
LOCATION:Wildhaus\, Hauptstraße 104\, Wildhaus\, 9658\, Schweiz
GEO:47.201682;9.341742
X-APPLE-STRUCTURED-LOCATION;VALUE=URI;X-ADDRESS=Hauptstraße 104\, Wildhaus
 \, 9658\, Schweiz;X-APPLE-RADIUS=100;X-TITLE=Wildhaus:geo:47.201682,9.3417
 42
END:VEVENT
BEGIN:VTIMEZONE
TZID:Europe/Berlin
X-LIC-LOCATION:Europe/Berlin
BEGIN:DAYLIGHT
DTSTART:20260329T030000
TZOFFSETFROM:+0100
TZOFFSETTO:+0200
TZNAME:CEST
END:DAYLIGHT
END:VTIMEZONE
END:VCALENDAR