BEGIN:VCALENDAR
VERSION:2.0
PRODID:-//wp-events-plugin.com//7.2.3.1//EN
TZID:Europe/Berlin
X-WR-TIMEZONE:Europe/Berlin
BEGIN:VEVENT
UID:377@xc-run.de
DTSTART;TZID=Europe/Berlin;VALUE=DATE:20260724
DTEND;TZID=Europe/Berlin;VALUE=DATE:20260726
DTSTAMP:20251024T192933Z
URL:https://xc-run.de/events/eventkalender/crazy-runners-frankenwald-trail
 -2/
SUMMARY:Crazy Runners Frankenwald Trail
DESCRIPTION:Auch dieses Jahr locken die Crazy Runners Frankenwald gemeinsam
  mit dem TSV Dürrenwaid e.V. mehrere hundert Läufer in den Frankenwald. 
 Auf drei unterschiedlichen Distanzen zwischen 8km und 53km kann man ist f
 ür jeden die richtige Strecke dabei.
ATTACH;FMTTYPE=image/jpeg:https://xc-run.de/wp-content/uploads/2025/07/Kal
 enderOhne.jpg
CATEGORIES:Trailevents
LOCATION:Geroldsgrün\, Silberstein 64\, Geroldsgrün\, Bayern\, 95179\, Ob
 erfranken\, Deutschland
GEO:50.343489;11.564811
X-APPLE-STRUCTURED-LOCATION;VALUE=URI;X-ADDRESS=Silberstein 64\, Geroldsgr
 ün\, Bayern\, 95179\, Oberfranken\, Deutschland;X-APPLE-RADIUS=100;X-TITL
 E=Geroldsgrün:geo:50.343489,11.564811
END:VEVENT
BEGIN:VTIMEZONE
TZID:Europe/Berlin
X-LIC-LOCATION:Europe/Berlin
BEGIN:DAYLIGHT
DTSTART:20260329T030000
TZOFFSETFROM:+0100
TZOFFSETTO:+0200
TZNAME:CEST
END:DAYLIGHT
END:VTIMEZONE
END:VCALENDAR