BEGIN:VCALENDAR
VERSION:2.0
PRODID:-//wp-events-plugin.com//7.2.3.1//EN
TZID:Europe/Berlin
X-WR-TIMEZONE:Europe/Berlin
BEGIN:VEVENT
UID:456@xc-run.de
DTSTART;TZID=Europe/Berlin:20260612T000000
DTEND;TZID=Europe/Berlin:20260614T000000
DTSTAMP:20251219T203152Z
URL:https://xc-run.de/events/eventkalender/dolomiti-extreme-trail-2/
SUMMARY:Dolomiti Extreme Trail
DESCRIPTION:Der „Dolomiti Extreme Trail“\, kurz DXT\, fand 2013 zum ers
 ten Mal statt und hat sich zu einem der beliebtesten Wettbewerbe in Italie
 n entwickelt. Heute umfasst der „Dolomiti Extreme Trail“ sechs Rennen
 : vom 103 km langen Aushängeschild bis hin zu den ebenso fesselnden Dista
 nzen über 72 km\, 55 km\, 22 km und 11 km ...
ATTACH;FMTTYPE=image/jpeg:https://xc-run.de/wp-content/uploads/2025/07/Kal
 enderOhne.jpg
CATEGORIES:Trailevents
LOCATION:Val di Zolda\, Soccampo\, Val di Zolda\, Italien
GEO:46.285702;12.240282
X-APPLE-STRUCTURED-LOCATION;VALUE=URI;X-ADDRESS=Soccampo\, Val di Zolda\, I
 talien;X-APPLE-RADIUS=100;X-TITLE=Val di Zolda:geo:46.285702,12.240282
END:VEVENT
BEGIN:VTIMEZONE
TZID:Europe/Berlin
X-LIC-LOCATION:Europe/Berlin
BEGIN:DAYLIGHT
DTSTART:20260329T030000
TZOFFSETFROM:+0100
TZOFFSETTO:+0200
TZNAME:CEST
END:DAYLIGHT
END:VTIMEZONE
END:VCALENDAR