BEGIN:VCALENDAR
VERSION:2.0
PRODID:-//wp-events-plugin.com//7.2.3.1//EN
TZID:Europe/Berlin
X-WR-TIMEZONE:Europe/Berlin
BEGIN:VEVENT
UID:511@xc-run.de
DTSTART;TZID=Europe/Berlin;VALUE=DATE:20260424
DTEND;TZID=Europe/Berlin;VALUE=DATE:20260426
DTSTAMP:20260117T202047Z
URL:https://xc-run.de/events/eventkalender/donnersbergtrail/
SUMMARY:Donnersbergtrail
DESCRIPTION:Der Leichtathletik Club Donnersberg ist Ausrichter zweier Laufv
 eranstaltungen rund um den Donnersberg. Dieser ist mit 686 m das höchste 
 Bergmassiv des Nordpfälzer Berglands und der gesamten Pfalz. Neben dem Be
 rglauf im Februar findet jeweils im April der Donnersbergtrail mit vier un
 terschiedlichen Strecken statt.
ATTACH;FMTTYPE=image/jpeg:https://xc-run.de/wp-content/uploads/2025/07/Kal
 enderOhne.jpg
CATEGORIES:Berglauf
LOCATION:Gemeindehalle Imsbach\, Gienanthstraße\, Imsbach\, 67817\, Deutsc
 hland
GEO:49.582636;7.880426
X-APPLE-STRUCTURED-LOCATION;VALUE=URI;X-ADDRESS=Gienanthstraße\, Imsbach\,
  67817\, Deutschland;X-APPLE-RADIUS=100;X-TITLE=Gemeindehalle Imsbach:geo:
 49.582636,7.880426
END:VEVENT
BEGIN:VTIMEZONE
TZID:Europe/Berlin
X-LIC-LOCATION:Europe/Berlin
BEGIN:DAYLIGHT
DTSTART:20260329T030000
TZOFFSETFROM:+0100
TZOFFSETTO:+0200
TZNAME:CEST
END:DAYLIGHT
END:VTIMEZONE
END:VCALENDAR