BEGIN:VCALENDAR
VERSION:2.0
PRODID:-//wp-events-plugin.com//7.2.3.1//EN
TZID:Europe/Berlin
X-WR-TIMEZONE:Europe/Berlin
BEGIN:VEVENT
UID:382@xc-run.de
DTSTART;TZID=Europe/Berlin:20260612T000000
DTEND;TZID=Europe/Berlin:20260613T000000
DTSTAMP:20260215T090958Z
URL:https://xc-run.de/events/eventkalender/ebbser-koasamarsch/
SUMMARY:Ebbser Koasamarsch
DESCRIPTION:International und Kult – Der Wander- und Trailrunning-Event K
 oasamarsch im Kufsteinerland in Tirol gilt als eine der ältesten Wander- 
 und Berglaufveranstaltungen Österreichs. Egal ob den Sieg vor Augen\, auf
  der Suche nach dem ultimativen Adrenalinkick\, fürs verbindende Wir-Gef
 ühl beim Wandern in der Gruppe beim Genießen der kaiserlichen Landschaft
  oder einfach nur\, um dabei gewesen zu sein – beim Ebbser Koasamarsch k
 ommt jede und jeder auf seine Kosten. Zur Auswahl stehen drei Trailrunning
 -Bewerbe und vier unterschiedliche Wanderstrecken.
ATTACH;FMTTYPE=image/jpeg:https://xc-run.de/wp-content/uploads/2026/02/Koa
 samarsch_2025_1_cTVB-Kufsteinerland_Chris-Gollhofer-208692.jpg
CATEGORIES:Trailevents
LOCATION:Ebbser Koasamarsch\, Kaiserbergstraße 7\, Ebbs\, Tirol\, Österre
 ich
GEO:47.630256;12.216589
X-APPLE-STRUCTURED-LOCATION;VALUE=URI;X-ADDRESS=Kaiserbergstraße 7\, Ebbs\
 , Tirol\, Österreich;X-APPLE-RADIUS=100;X-TITLE=Ebbser Koasamarsch:geo:47
 .630256,12.216589
END:VEVENT
BEGIN:VTIMEZONE
TZID:Europe/Berlin
X-LIC-LOCATION:Europe/Berlin
BEGIN:DAYLIGHT
DTSTART:20260329T030000
TZOFFSETFROM:+0100
TZOFFSETTO:+0200
TZNAME:CEST
END:DAYLIGHT
END:VTIMEZONE
END:VCALENDAR