BEGIN:VCALENDAR
VERSION:2.0
PRODID:-//wp-events-plugin.com//7.2.3.1//EN
TZID:Europe/Berlin
X-WR-TIMEZONE:Europe/Berlin
BEGIN:VEVENT
UID:523@xc-run.de
DTSTART;TZID=Europe/Berlin;VALUE=DATE:20260612
DTEND;TZID=Europe/Berlin;VALUE=DATE:20260614
DTSTAMP:20251025T191750Z
URL:https://xc-run.de/events/eventkalender/ecotrail-stockholm/
SUMMARY:Ecotrail Stockholm
DESCRIPTION:Beim Ecotrail Stockholm geht es auf wunderschönen Wegen durch 
 sieben Stockholmer Gemeinden und neun Naturschutzgebiete im Norden der Sta
 dt. erleben. Start und Ziel befinden sich auf Norra Djurgården\, einem eh
 emaligen Hafengebiet. Gerade die 80 km lange Strecke bietet das Beste\, w
 as Stockholm in Sachen Trailrunning zu bieten hat: flowige und auch techni
 sche Singletrails\, ländliche und städtische Gebiete\, Sehenswürdigkeit
 en und viele Aussichtspunkte. Daneben gibt es vier weitere Strecken zwisch
 en 8 km und 45 km.
ATTACH;FMTTYPE=image/jpeg:https://xc-run.de/wp-content/uploads/2025/07/Kal
 enderOhne.jpg
CATEGORIES:Trailevents
LOCATION:Stockholm\, Stora Skuggan\, Stockholm\, Schweden
GEO:59.365503;18.074971
X-APPLE-STRUCTURED-LOCATION;VALUE=URI;X-ADDRESS=Stora Skuggan\, Stockholm\,
  Schweden;X-APPLE-RADIUS=100;X-TITLE=Stockholm:geo:59.365503,18.074971
END:VEVENT
BEGIN:VTIMEZONE
TZID:Europe/Berlin
X-LIC-LOCATION:Europe/Berlin
BEGIN:DAYLIGHT
DTSTART:20260329T030000
TZOFFSETFROM:+0100
TZOFFSETTO:+0200
TZNAME:CEST
END:DAYLIGHT
END:VTIMEZONE
END:VCALENDAR