BEGIN:VCALENDAR
VERSION:2.0
PRODID:-//wp-events-plugin.com//7.2.3.1//EN
TZID:Europe/Berlin
X-WR-TIMEZONE:Europe/Berlin
BEGIN:VEVENT
UID:571@xc-run.de
DTSTART;TZID=Europe/Berlin;VALUE=DATE:20261002
DTEND;TZID=Europe/Berlin;VALUE=DATE:20261004
DTSTAMP:20260331T175203Z
URL:https://xc-run.de/events/eventkalender/everest-linz/
SUMMARY:Everest Linz
DESCRIPTION:In Linz auf den Mount Everest \n\nAuf einem 3\,5 km langen Run
 dkurs mit 220 hm geht es über 12 h oder 24 h bis auf die Höhe des Mount 
 Everest - 8848hm! \n\nRunde für Runde Höhenmeter sammeln im schönen Li
 nz! Eine Herausforderung für Körper und Geist! \n
ATTACH;FMTTYPE=image/jpeg:https://xc-run.de/wp-content/uploads/2025/07/Kal
 enderOhne.jpg
CATEGORIES:Trailevents
LOCATION:Everest Linz\, Petrinumstraße 12\, Linz\, Österreich
GEO:48.319678;14.276395
X-APPLE-STRUCTURED-LOCATION;VALUE=URI;X-ADDRESS=Petrinumstraße 12\, Linz\,
  Österreich;X-APPLE-RADIUS=100;X-TITLE=Everest Linz:geo:48.319678,14.2763
 95
END:VEVENT
BEGIN:VTIMEZONE
TZID:Europe/Berlin
X-LIC-LOCATION:Europe/Berlin
BEGIN:DAYLIGHT
DTSTART:20260329T030000
TZOFFSETFROM:+0100
TZOFFSETTO:+0200
TZNAME:CEST
END:DAYLIGHT
END:VTIMEZONE
END:VCALENDAR