BEGIN:VCALENDAR
VERSION:2.0
PRODID:-//wp-events-plugin.com//7.2.3.1//EN
TZID:Europe/Berlin
X-WR-TIMEZONE:Europe/Berlin
BEGIN:VEVENT
UID:573@xc-run.de
DTSTART;TZID=Europe/Berlin;VALUE=DATE:20260627
DTEND;TZID=Europe/Berlin;VALUE=DATE:20260629
DTSTAMP:20260416T084630Z
URL:https://xc-run.de/events/eventkalender/fjaellmaraton-gastronomi/
SUMMARY:Fjällmaraton Gastronomi
DESCRIPTION:Kulinarik und Trailrunning in Schweden:\n\nAuf zwei deutlich ma
 rkierten Strecken von 21 km oder 42 km Länge durch die Berge Schwedens ha
 ben Läufer und Speedhiker die Möglichkeit\, die raue schwedische Landsch
 aft und ihre fantastische regionale Küche zu genießen.
ATTACH;FMTTYPE=image/jpeg:https://xc-run.de/wp-content/uploads/2025/07/Kal
 enderOhne.jpg
CATEGORIES:Trailevents
LOCATION:Ottsjö\, ottsjö\, Schweden
GEO:63.215612;13.055685
X-APPLE-STRUCTURED-LOCATION;VALUE=URI;X-ADDRESS=ottsjö\, Schweden;X-APPLE-
 RADIUS=100;X-TITLE=Ottsjö:geo:63.215612,13.055685
END:VEVENT
BEGIN:VTIMEZONE
TZID:Europe/Berlin
X-LIC-LOCATION:Europe/Berlin
BEGIN:DAYLIGHT
DTSTART:20260329T030000
TZOFFSETFROM:+0100
TZOFFSETTO:+0200
TZNAME:CEST
END:DAYLIGHT
END:VTIMEZONE
END:VCALENDAR