BEGIN:VCALENDAR
VERSION:2.0
PRODID:-//wp-events-plugin.com//7.2.3.1//EN
TZID:Europe/Berlin
X-WR-TIMEZONE:Europe/Berlin
BEGIN:VEVENT
UID:574@xc-run.de
DTSTART;TZID=Europe/Berlin;VALUE=DATE:20260725
DTEND;TZID=Europe/Berlin;VALUE=DATE:20260801
DTSTAMP:20260416T085508Z
URL:https://xc-run.de/events/eventkalender/fjaellmaraton/
SUMMARY:Fjällmaraton
DESCRIPTION:Eine Woche Trailrunning pur in der unvergleichlichen Landschaft
  Schwedens! Hier finden sich Distanzen für alle Läufer - vom Einsteiger 
 bis hin zum Langstreckenspezialisten und Vertical-Liebhaber!
ATTACH;FMTTYPE=image/jpeg:https://xc-run.de/wp-content/uploads/2025/07/Kal
 enderOhne.jpg
CATEGORIES:Trailevents
LOCATION:Arefjällen\, trillevallen\, Schweden
GEO:63.259587;13.187028
X-APPLE-STRUCTURED-LOCATION;VALUE=URI;X-ADDRESS=trillevallen\, Schweden;X-A
 PPLE-RADIUS=100;X-TITLE=Arefjällen:geo:63.259587,13.187028
END:VEVENT
BEGIN:VTIMEZONE
TZID:Europe/Berlin
X-LIC-LOCATION:Europe/Berlin
BEGIN:DAYLIGHT
DTSTART:20260329T030000
TZOFFSETFROM:+0100
TZOFFSETTO:+0200
TZNAME:CEST
END:DAYLIGHT
END:VTIMEZONE
END:VCALENDAR