BEGIN:VCALENDAR
VERSION:2.0
PRODID:-//wp-events-plugin.com//7.2.3.1//EN
TZID:Europe/Berlin
X-WR-TIMEZONE:Europe/Berlin
BEGIN:VEVENT
UID:556@xc-run.de
DTSTART;TZID=Europe/Berlin;VALUE=DATE:20260508
DTEND;TZID=Europe/Berlin;VALUE=DATE:20260510
DTSTAMP:20260225T195554Z
URL:https://xc-run.de/events/eventkalender/gapa-everesting-fesitval/
SUMMARY:GaPa Everesting Fesitval
DESCRIPTION:Einmal im Leben laufend die Höhenmeter des höchsten Berges de
 r Welt erklimmen – darum geht es am 8. und 9. Mai bei der Premiere vom 
 GaPa Everesting-Festival beim Eckbauer in Garmisch-Partenkirchen. Hoch zu
  Fuß\, bergab mit der Gondel\, das Ganze in 18 Runden.
ATTACH;FMTTYPE=image/jpeg:https://xc-run.de/wp-content/uploads/2026/02/Gro
 ss-4-DSC05592.jpeg
CATEGORIES:Berglauf
LOCATION:Eckbauer Talstation\, Wildenauer Straße\, Garmisch Partenkirchen\
 , Bayern\, Deutschland
GEO:47.478772;11.113585
X-APPLE-STRUCTURED-LOCATION;VALUE=URI;X-ADDRESS=Wildenauer Straße\, Garmis
 ch Partenkirchen\, Bayern\, Deutschland;X-APPLE-RADIUS=100;X-TITLE=Eckbaue
 r Talstation:geo:47.478772,11.113585
END:VEVENT
BEGIN:VTIMEZONE
TZID:Europe/Berlin
X-LIC-LOCATION:Europe/Berlin
BEGIN:DAYLIGHT
DTSTART:20260329T030000
TZOFFSETFROM:+0100
TZOFFSETTO:+0200
TZNAME:CEST
END:DAYLIGHT
END:VTIMEZONE
END:VCALENDAR