BEGIN:VCALENDAR
VERSION:2.0
PRODID:-//wp-events-plugin.com//7.2.3.1//EN
TZID:Europe/Berlin
X-WR-TIMEZONE:Europe/Berlin
BEGIN:VEVENT
UID:416@xc-run.de
DTSTART;TZID=Europe/Berlin;VALUE=DATE:20260424
DTEND;TZID=Europe/Berlin;VALUE=DATE:20260426
DTSTAMP:20250915T193538Z
URL:https://xc-run.de/events/eventkalender/gapa-trail-dein-heimatlauf/
SUMMARY:GaPa Trail - Dein Heimatlauf
DESCRIPTION:Garmisch-Partenkirchen\, inmitten des Werdenfelser Landes geleg
 en und eine der bekanntesten deutschen Urlaubs- und Sportdestinationen\, w
 ird am 25. April Gastgeber des GaPa Trails. Das neue Laufsportformat ist p
 erfekt für Breitensportler und Wanderfreunde\, die ihr Hobby mit dem Natu
 rerlebnis der Zugspitzregion verbinden möchten. Für die Teilnehmer stehe
 n drei Streckenlängen zwischen 10km und 26km zur Verfügung.
ATTACH;FMTTYPE=image/jpeg:https://xc-run.de/wp-content/uploads/2025/07/Kal
 enderOhne.jpg
CATEGORIES:Trailevents
LOCATION:GaPa Trail\, Wildenauer Straße\, Garmisch Partenkirchen\, Bayern\
 , Deutschland
GEO:47.478863;11.113707
X-APPLE-STRUCTURED-LOCATION;VALUE=URI;X-ADDRESS=Wildenauer Straße\, Garmis
 ch Partenkirchen\, Bayern\, Deutschland;X-APPLE-RADIUS=100;X-TITLE=GaPa Tr
 ail:geo:47.478863,11.113707
END:VEVENT
BEGIN:VTIMEZONE
TZID:Europe/Berlin
X-LIC-LOCATION:Europe/Berlin
BEGIN:DAYLIGHT
DTSTART:20260329T030000
TZOFFSETFROM:+0100
TZOFFSETTO:+0200
TZNAME:CEST
END:DAYLIGHT
END:VTIMEZONE
END:VCALENDAR