BEGIN:VCALENDAR
VERSION:2.0
PRODID:-//wp-events-plugin.com//7.2.3.1//EN
TZID:Europe/Berlin
X-WR-TIMEZONE:Europe/Berlin
BEGIN:VEVENT
UID:530@xc-run.de
DTSTART;TZID=Europe/Berlin;VALUE=DATE:20260424
DTEND;TZID=Europe/Berlin;VALUE=DATE:20260425
DTSTAMP:20250915T193307Z
URL:https://xc-run.de/events/eventkalender/gapa-vertical/
SUMMARY:GaPa Vertical
DESCRIPTION:Mit einem Vertical in die neue Saison starten? Das ist bei der 
 Premiere des GaPa Vertical möglich. Der GaPa Vertical findet auf der lege
 ndären Skiweltcup-Strecke am Gudiberg statt. Der Start erfolgt im Olympia
 -Skistadion in Garmisch-Partenkirchen. Von dort aus geht es direkt hinauf 
 auf den steilen und anspruchsvollen Gudiberg.
ATTACH;FMTTYPE=image/jpeg:https://xc-run.de/wp-content/uploads/2025/07/Kal
 enderOhne.jpg
CATEGORIES:Berglauf
LOCATION:Garmisch Partenkirchen\, Wildenauer Straße\, Garmisch-Partenkirch
 en\, Bayern\, Oberland\, Deutschland
GEO:47.478772;11.113585
X-APPLE-STRUCTURED-LOCATION;VALUE=URI;X-ADDRESS=Wildenauer Straße\, Garmis
 ch-Partenkirchen\, Bayern\, Oberland\, Deutschland;X-APPLE-RADIUS=100;X-TI
 TLE=Garmisch Partenkirchen:geo:47.478772,11.113585
END:VEVENT
BEGIN:VTIMEZONE
TZID:Europe/Berlin
X-LIC-LOCATION:Europe/Berlin
BEGIN:DAYLIGHT
DTSTART:20260329T030000
TZOFFSETFROM:+0100
TZOFFSETTO:+0200
TZNAME:CEST
END:DAYLIGHT
END:VTIMEZONE
END:VCALENDAR