BEGIN:VCALENDAR
VERSION:2.0
PRODID:-//wp-events-plugin.com//7.2.3.1//EN
TZID:Europe/Berlin
X-WR-TIMEZONE:Europe/Berlin
BEGIN:VEVENT
UID:364@xc-run.de
DTSTART;TZID=Europe/Berlin;VALUE=DATE:20260515
DTEND;TZID=Europe/Berlin;VALUE=DATE:20260518
DTSTAMP:20250915T190846Z
URL:https://xc-run.de/events/eventkalender/garda-trentino-trail-2/
SUMMARY:Garda Trentino Trail
DESCRIPTION:Der Gardasee ist schon lange als Eldorado für Trailrunner beka
 nnt. Mit dem Garda Trentino Trail gibt es das passende Laufevent um auch i
 m Süden Europas die neue Laufsaison einzuläuten. Dazu gibt es Rennen mit
  einer Länge von bis zu 60 km und einen zu überwindenden Höhenunterschi
 ed von 4.200 HM.
ATTACH;FMTTYPE=image/jpeg:https://xc-run.de/wp-content/uploads/2025/07/Kal
 enderOhne.jpg
CATEGORIES:Trailevents
LOCATION:Riva del Garda\, Piazza Catena\, Riva del Garda\, Italien
GEO:45.884411;10.838914
X-APPLE-STRUCTURED-LOCATION;VALUE=URI;X-ADDRESS=Piazza Catena\, Riva del Ga
 rda\, Italien;X-APPLE-RADIUS=100;X-TITLE=Riva del Garda:geo:45.884411,10.8
 38914
END:VEVENT
BEGIN:VTIMEZONE
TZID:Europe/Berlin
X-LIC-LOCATION:Europe/Berlin
BEGIN:DAYLIGHT
DTSTART:20260329T030000
TZOFFSETFROM:+0100
TZOFFSETTO:+0200
TZNAME:CEST
END:DAYLIGHT
END:VTIMEZONE
END:VCALENDAR