BEGIN:VCALENDAR
VERSION:2.0
PRODID:-//wp-events-plugin.com//7.2.3.1//EN
TZID:Europe/Berlin
X-WR-TIMEZONE:Europe/Berlin
BEGIN:VEVENT
UID:468@xc-run.de
DTSTART;TZID=Europe/Berlin;VALUE=DATE:20260808
DTEND;TZID=Europe/Berlin;VALUE=DATE:20260809
DTSTAMP:20251225T162835Z
URL:https://xc-run.de/events/eventkalender/glacier-3000-run/
SUMMARY:Glacier 3000 Run
DESCRIPTION:Von der schweizerischen Gemeinde Gstaad (1.050 m) im Berner Obe
 rland aus\, geht es empor in das Gletscherskigebiet Glacier 3000. Beim urs
 prünglichen Lauf wird dabei bei einer Streckenlänge von 26\,2 km ein pos
 itiver Höhenunterschied von 1.900 HM überwunden. Daneben wird auch ein V
 ertical km Rennen angeboten. Dieses ist 3\,83 km lang\, wird am Col Du Pil
 lon nahe der Mittelstation gestartet und endet nach 1.000 HM bei der Bergs
 tation Cabane.
ATTACH;FMTTYPE=image/jpeg:https://xc-run.de/wp-content/uploads/2025/07/Kal
 enderOhne.jpg
CATEGORIES:Trailevents
LOCATION:Gstaad\, Promenade\, Gstaad\, Berner Oberland\, Schweiz
GEO:46.474469;7.285742
X-APPLE-STRUCTURED-LOCATION;VALUE=URI;X-ADDRESS=Promenade\, Gstaad\, Berner
  Oberland\, Schweiz;X-APPLE-RADIUS=100;X-TITLE=Gstaad:geo:46.474469,7.2857
 42
END:VEVENT
BEGIN:VTIMEZONE
TZID:Europe/Berlin
X-LIC-LOCATION:Europe/Berlin
BEGIN:DAYLIGHT
DTSTART:20260329T030000
TZOFFSETFROM:+0100
TZOFFSETTO:+0200
TZNAME:CEST
END:DAYLIGHT
END:VTIMEZONE
END:VCALENDAR