BEGIN:VCALENDAR
VERSION:2.0
PRODID:-//wp-events-plugin.com//7.2.3.1//EN
TZID:Europe/Berlin
X-WR-TIMEZONE:Europe/Berlin
BEGIN:VEVENT
UID:330@xc-run.de
DTSTART;TZID=Europe/Berlin;VALUE=DATE:20260716
DTEND;TZID=Europe/Berlin;VALUE=DATE:20260719
DTSTAMP:20251225T154825Z
URL:https://xc-run.de/events/eventkalender/gletscher-trailrun-copy/
SUMMARY:Gletscher Trailrun
DESCRIPTION:Wer die Herausforderung des Gletscher Trailruns mit technisch a
 nspruchsvollen Abschnitten zwischen 2.000 und 3.000 Höhenmetern annimmt\,
  wird mit einer unvergesslichen Aussicht auf die Vielfalt der Ötztaler Be
 rgwelt belohnt. Von Obergurgl aus geht es auf die fünf Distanzen zwischen
  6\,3 km und 61\,1 km.
ATTACH;FMTTYPE=image/jpeg:https://xc-run.de/wp-content/uploads/2025/07/Gro
 ss-oetzt_Gletscher-Trailrun-2025-Johannes-Brunner.jpeg
CATEGORIES:Skyrunning,Trailevents
LOCATION:Obergurgl\, Dorfzentrum\, Obergurgl\, Tirol\, Österreich
GEO:46.870252;11.026926
X-APPLE-STRUCTURED-LOCATION;VALUE=URI;X-ADDRESS=Dorfzentrum\, Obergurgl\, T
 irol\, Österreich;X-APPLE-RADIUS=100;X-TITLE=Obergurgl:geo:46.870252,11.0
 26926
END:VEVENT
BEGIN:VTIMEZONE
TZID:Europe/Berlin
X-LIC-LOCATION:Europe/Berlin
BEGIN:DAYLIGHT
DTSTART:20260329T030000
TZOFFSETFROM:+0100
TZOFFSETTO:+0200
TZNAME:CEST
END:DAYLIGHT
END:VTIMEZONE
END:VCALENDAR