BEGIN:VCALENDAR
VERSION:2.0
PRODID:-//wp-events-plugin.com//7.2.3.1//EN
TZID:Europe/Berlin
X-WR-TIMEZONE:Europe/Berlin
BEGIN:VEVENT
UID:290@xc-run.de
DTSTART;TZID=Europe/Berlin;VALUE=DATE:20260704
DTEND;TZID=Europe/Berlin;VALUE=DATE:20260706
DTSTAMP:20250915T191034Z
URL:https://xc-run.de/events/eventkalender/gletschermarathon-pitztal/
SUMMARY:Gletschermarathon - Pitztal
DESCRIPTION:Der Gletschermarathon findet seit 2006 jährlich statt und ist 
 inzwischen ein fester Bestandteil der Sommersport-Events in Tirol. Der Gle
 tschermarathon schlängelt sich durch die beeindruckende Bergkulisse des g
 esamten Pitztals. Angefangen am Fuße des Gletschers genießen die Läufer
  die schönsten Eindrücke\, die ihnen die Natur in den Pitztaler Bergen z
 u bieten hat.\nBeim Gletschermarathon wird das gelebt\, was Sport seit jeh
 er ausmacht: Körpereinsatz\, Kondition\, Kampfgeist und am wichtigsten: d
 ie Kameradschaft! Die familiäre Atmosphäre\, die Herzlichkeit der Streck
 enhelfer und die ausgelassene Stimmung im Zielgelände überzeugen.
ATTACH;FMTTYPE=image/jpeg:https://xc-run.de/wp-content/uploads/2025/07/Kal
 enderOhne.jpg
CATEGORIES:Trailevents
LOCATION:Arzl im Pitztal\, Grube 5\, Arzl im Pitztal\, Tirol\, 6471\, Pitzt
 al\, Österreich
GEO:47.208331;10.761009
X-APPLE-STRUCTURED-LOCATION;VALUE=URI;X-ADDRESS=Grube 5\, Arzl im Pitztal\,
  Tirol\, 6471\, Pitztal\, Österreich;X-APPLE-RADIUS=100;X-TITLE=Arzl im P
 itztal:geo:47.208331,10.761009
END:VEVENT
BEGIN:VTIMEZONE
TZID:Europe/Berlin
X-LIC-LOCATION:Europe/Berlin
BEGIN:DAYLIGHT
DTSTART:20260329T030000
TZOFFSETFROM:+0100
TZOFFSETTO:+0200
TZNAME:CEST
END:DAYLIGHT
END:VTIMEZONE
END:VCALENDAR