BEGIN:VCALENDAR
VERSION:2.0
PRODID:-//wp-events-plugin.com//7.2.3.1//EN
TZID:Europe/Berlin
X-WR-TIMEZONE:Europe/Berlin
BEGIN:VEVENT
UID:504@xc-run.de
DTSTART;TZID=Europe/Berlin;VALUE=DATE:20260422
DTEND;TZID=Europe/Berlin;VALUE=DATE:20260427
DTSTAMP:20251020T191453Z
URL:https://xc-run.de/events/eventkalender/grand-raid-ventoux-by-utmb-grv/
SUMMARY:Grand Raid Ventoux by UTMB (GRV)
DESCRIPTION:Der Mont Ventoux ist ein 1909 m hoher dominanter Berg in der fr
 anzösischen Provence. Bereits die Kelten verehrten diesen als Kultstätte
  und nun steht dieser weithin sichtbare Berg im Mittelpunkt der Veranstalt
 ung. Auf den Strecken zwischen 27 bis 125 km geht es über die malerischen
  Hügel der Provence und über den anspruchsvollen Bergrücken des Mont Ve
 ntoux. Über die sportliche Herausforderung hinaus ist der Grand Raid Vent
 oux by UTMB ein Wohltätigkeitsrennen. Für jede Startnummer werden 2 EUR 
 an das Œuvre des Pupilles Orphelins des Sapeurs Pompiers gespendet.
ATTACH;FMTTYPE=image/jpeg:https://xc-run.de/wp-content/uploads/2025/07/UTM
 B.jpg
CATEGORIES:Trailevents,UTMB World Series
LOCATION:Malaucene\, Route de Vaison la Romaine\, Malaucene\, Frankreich
GEO:44.173359;5.001111
X-APPLE-STRUCTURED-LOCATION;VALUE=URI;X-ADDRESS=Route de Vaison la Romaine\
 , Malaucene\, Frankreich;X-APPLE-RADIUS=100;X-TITLE=Malaucene:geo:44.17335
 9,5.001111
END:VEVENT
BEGIN:VTIMEZONE
TZID:Europe/Berlin
X-LIC-LOCATION:Europe/Berlin
BEGIN:DAYLIGHT
DTSTART:20260329T030000
TZOFFSETFROM:+0100
TZOFFSETTO:+0200
TZNAME:CEST
END:DAYLIGHT
END:VTIMEZONE
END:VCALENDAR