BEGIN:VCALENDAR
VERSION:2.0
PRODID:-//wp-events-plugin.com//7.2.3.1//EN
TZID:Europe/Berlin
X-WR-TIMEZONE:Europe/Berlin
BEGIN:VEVENT
UID:407@xc-run.de
DTSTART;TZID=Europe/Berlin;VALUE=DATE:20260703
DTEND;TZID=Europe/Berlin;VALUE=DATE:20260706
DTSTAMP:20260104T201608Z
URL:https://xc-run.de/events/eventkalender/grossglockner-berglauf-der-myth
 os/
SUMMARY:Großglockner Mountainrun
DESCRIPTION:Die Attraktivität des höchsten Berges Österreichs. Die Faszi
 nation des Nationalparks Hohe Tauern. Die Herausforderung\, den Großglock
 ner zu spüren\, den Berg zu erobern\, die Natur zu genießen. Sich selbst
  den Anforderungen stellen. Ausloten\, was der eigene Körper hergibt. Die
  Natur des Menschen mit jener des Großglockners in Einklang bringen. Gewi
 nner ist\, wer am Großglockner Mountainrun teilnimmt!\nAuf einer Distanz 
 von 13\,367km werden 1.309HM überwunden. Für den Mountainrun werden 1.50
 0 Startplätze angeboten.
ATTACH;FMTTYPE=image/jpeg:https://xc-run.de/wp-content/uploads/2025/07/Kal
 enderOhne.jpg
CATEGORIES:Berglauf
LOCATION:Großglockner Berglauf\, Winkl\, Heiligenblut am Großglockner\, 
 Österreich
GEO:47.047288;12.822546
X-APPLE-STRUCTURED-LOCATION;VALUE=URI;X-ADDRESS=Winkl\, Heiligenblut am Gro
 ßglockner\, Österreich;X-APPLE-RADIUS=100;X-TITLE=Großglockner Berglauf
 :geo:47.047288,12.822546
END:VEVENT
BEGIN:VTIMEZONE
TZID:Europe/Berlin
X-LIC-LOCATION:Europe/Berlin
BEGIN:DAYLIGHT
DTSTART:20260329T030000
TZOFFSETFROM:+0100
TZOFFSETTO:+0200
TZNAME:CEST
END:DAYLIGHT
END:VTIMEZONE
END:VCALENDAR