BEGIN:VCALENDAR
VERSION:2.0
PRODID:-//wp-events-plugin.com//7.2.3.1//EN
TZID:Europe/Berlin
X-WR-TIMEZONE:Europe/Berlin
BEGIN:VEVENT
UID:339@xc-run.de
DTSTART;TZID=Europe/Berlin;VALUE=DATE:20260723
DTEND;TZID=Europe/Berlin;VALUE=DATE:20260727
DTSTAMP:20251013T192612Z
URL:https://xc-run.de/events/eventkalender/grossglockner-ultratrail-ggut-c
 opy/
SUMMARY:Großglockner Ultratrail GGUT
DESCRIPTION:Der Grossglockner ULTRA-TRAIL gilt als der anspruchsvollste Tra
 il-Wettkampf der Ostalpen. Dank der spektakulären Kulisse im Nationalpar
 k Hohe Tauern\, der anspruchsvollen Wegstrecken und der perfekten Organisa
 tion ist die Veranstaltung bei Hobbyläufer:innen wie Profis gleichermaße
 n populär. DYNAFIT ist sein Anfang an mit von der Partie und unterstützt
  den Grossglockner ULTRA-TRAIL im Jubiläumsjahr als stolzer Hauptpartner.
 \nMit fünf unterschiedlichen Bewerben ist beim GGUT für jeden Geschmack 
 das Passende dabei – vom Mini-GGUT hin zur Königsdisziplin\, dem Grossg
 lockner ULTRA-TRAIL\, mit 110 km und 6.500 Höhenmeter. Start- und Ziellin
 ie für den GGUT befinden sich auf dem Salzburger Platz im Herzen von Kapr
 un – für die Extra Portion Stimmung und zum Mitfiebern für alle Trail 
 Running-Begeisterten. 
ATTACH;FMTTYPE=image/jpeg:https://xc-run.de/wp-content/uploads/2025/07/Kal
 enderOhne.jpg
CATEGORIES:Trailevents
LOCATION:Kaprun\, EInoedweg 3\, Kaprun\, Salzburger Land\, 5710\, Alpen\, 
 Österreich
GEO:47.273886;12.75731
X-APPLE-STRUCTURED-LOCATION;VALUE=URI;X-ADDRESS=EInoedweg 3\, Kaprun\, Salz
 burger Land\, 5710\, Alpen\, Österreich;X-APPLE-RADIUS=100;X-TITLE=Kaprun
 :geo:47.273886,12.75731
END:VEVENT
BEGIN:VTIMEZONE
TZID:Europe/Berlin
X-LIC-LOCATION:Europe/Berlin
BEGIN:DAYLIGHT
DTSTART:20260329T030000
TZOFFSETFROM:+0100
TZOFFSETTO:+0200
TZNAME:CEST
END:DAYLIGHT
END:VTIMEZONE
END:VCALENDAR