BEGIN:VCALENDAR
VERSION:2.0
PRODID:-//wp-events-plugin.com//7.2.3.1//EN
TZID:Europe/Berlin
X-WR-TIMEZONE:Europe/Berlin
BEGIN:VEVENT
UID:3@xc-run.de
DTSTART;TZID=Europe/Berlin;VALUE=DATE:20260425
DTEND;TZID=Europe/Berlin;VALUE=DATE:20260427
DTSTAMP:20251027T193711Z
URL:https://xc-run.de/events/eventkalender/hermannslauf/
SUMMARY:Hermannslauf
DESCRIPTION:Der 31.1km lange Hermannslauf führt vom Hermannsdenkmal in Det
 mold durch den Teutoburger Wald zur Sparrenburg nach Bielefeld und findet 
 2026 bereits zum 54. Mal statt. Die Strecke führt dabei über wechselnde 
 Untergründe und stellt hohe Ansprüche an die Laufschuhe der Läuferinnen
  und Läufern: Von Asphalt und Betonstraßen über Forst- und Waldwege bis
  hin zu leichten Singletrails mit zahlreichen steilen Anstiegen und schnel
 len Downhills. Mit bis zu 7000 Startern ist dieser Lauf eine der größten
  Breitensportveranstaltungen und findet jährlich am letzten Sonntag im Ap
 ril statt. 
ATTACH;FMTTYPE=image/jpeg:https://xc-run.de/wp-content/uploads/2025/07/Kal
 enderOhne.jpg
CATEGORIES:Trailevents
LOCATION:Hermannsdenkmal Detmold\, Detmold\, Detmold\, Deutschland
GEO:51.9384783;8.868638000000033
X-APPLE-STRUCTURED-LOCATION;VALUE=URI;X-ADDRESS=Detmold\, Detmold\, Deutsch
 land;X-APPLE-RADIUS=100;X-TITLE=Hermannsdenkmal Detmold:geo:51.9384783,8.8
 68638000000033
END:VEVENT
BEGIN:VTIMEZONE
TZID:Europe/Berlin
X-LIC-LOCATION:Europe/Berlin
BEGIN:DAYLIGHT
DTSTART:20260329T030000
TZOFFSETFROM:+0100
TZOFFSETTO:+0200
TZNAME:CEST
END:DAYLIGHT
END:VTIMEZONE
END:VCALENDAR