BEGIN:VCALENDAR
VERSION:2.0
PRODID:-//wp-events-plugin.com//7.2.3.1//EN
TZID:Europe/Berlin
X-WR-TIMEZONE:Europe/Berlin
BEGIN:VEVENT
UID:494@xc-run.de
DTSTART;TZID=Europe/Berlin;VALUE=DATE:20260807
DTEND;TZID=Europe/Berlin;VALUE=DATE:20260810
DTSTAMP:20260205T204421Z
URL:https://xc-run.de/events/eventkalender/hochfuegen-hightrails-festival/
SUMMARY:Hochfügen Hightrails Festival
DESCRIPTION:Beim Hochfügen Hightrails Festival messen sich Hobby- und Prof
 i-Trailrunner beim HightrailRun - herrliches Panorama über einen der sch
 önsten Aussichtsberge Tirols inklusive. 2026 wird auf dieser Strecke die 
 Öster. Meisterschaft im Trail Classic ausgetragen\, während der kürzere
  FunRun ideal für Einsteiger*innen und 3er-Teams ist. Auch die kleinsten 
 Trailhelden kommen beim KidsRun auf ihre Kosten. Im Ziel wartet eine stimm
 ungsvolle Afterrace-Party auf alle Läufer*innen.
ATTACH;FMTTYPE=image/jpeg:https://xc-run.de/wp-content/uploads/2026/02/Hoc
 hfuegen-Hightrails-Festival_50.jpg
CATEGORIES:Trailevents
LOCATION:Hochfügen\, Hochfügen 3\, Hochfügen\, Tirol\, Österreich
GEO:47.268413;11.776862
X-APPLE-STRUCTURED-LOCATION;VALUE=URI;X-ADDRESS=Hochfügen 3\, Hochfügen\,
  Tirol\, Österreich;X-APPLE-RADIUS=100;X-TITLE=Hochfügen:geo:47.268413,1
 1.776862
END:VEVENT
BEGIN:VTIMEZONE
TZID:Europe/Berlin
X-LIC-LOCATION:Europe/Berlin
BEGIN:DAYLIGHT
DTSTART:20260329T030000
TZOFFSETFROM:+0100
TZOFFSETTO:+0200
TZNAME:CEST
END:DAYLIGHT
END:VTIMEZONE
END:VCALENDAR