BEGIN:VCALENDAR
VERSION:2.0
PRODID:-//wp-events-plugin.com//7.2.3.1//EN
TZID:Europe/Berlin
X-WR-TIMEZONE:Europe/Berlin
BEGIN:VEVENT
UID:538@xc-run.de
DTSTART;TZID=Europe/Berlin;VALUE=DATE:20260605
DTEND;TZID=Europe/Berlin;VALUE=DATE:20260607
DTSTAMP:20250805T094806Z
URL:https://xc-run.de/events/eventkalender/hochkoenig-ultraks/
SUMMARY:Hochkönig Ultraks
DESCRIPTION:Der Hochkönig Ultraks feiert 2026 seine Premiere und kommt mit
  sieben unterschiedlichen Distanzen in die Region rund um Maria Alm. Der d
 ominierende Gebirgsstock Hochkönig bietet eine atemberaubende Kulisse mit
  fordernden Trails und unvergesslichen Momenten.
ATTACH;FMTTYPE=image/jpeg:https://xc-run.de/wp-content/uploads/2025/08/Hoc
 hkoenigUltraks.jpg
CATEGORIES:Trailevents
LOCATION:Maria Alm\, Am Gemeindeplatz 7\, Maria Alm\, Salzburger Land\, 576
 1\, Pinzgau\, Österreich
GEO:47.406616;12.904443
X-APPLE-STRUCTURED-LOCATION;VALUE=URI;X-ADDRESS=Am Gemeindeplatz 7\, Maria 
 Alm\, Salzburger Land\, 5761\, Pinzgau\, Österreich;X-APPLE-RADIUS=100;X-
 TITLE=Maria Alm:geo:47.406616,12.904443
END:VEVENT
BEGIN:VTIMEZONE
TZID:Europe/Berlin
X-LIC-LOCATION:Europe/Berlin
BEGIN:DAYLIGHT
DTSTART:20260329T030000
TZOFFSETFROM:+0100
TZOFFSETTO:+0200
TZNAME:CEST
END:DAYLIGHT
END:VTIMEZONE
END:VCALENDAR