BEGIN:VCALENDAR
VERSION:2.0
PRODID:-//wp-events-plugin.com//7.2.3.1//EN
TZID:Europe/Berlin
X-WR-TIMEZONE:Europe/Berlin
BEGIN:VEVENT
UID:570@xc-run.de
DTSTART;TZID=Europe/Berlin;VALUE=DATE:20260828
DTEND;TZID=Europe/Berlin;VALUE=DATE:20260830
DTSTAMP:20260317T133907Z
URL:https://xc-run.de/events/eventkalender/hoega-kusta-trail/
SUMMARY:Höga Kusta Trail
DESCRIPTION:Der Höga-Kusta-Trail zählt zu Schwedens beliebtesten Trailrun
 ning-Erlebnissen! Die Höga Kusta bietet eine unvergleichlich spektakulär
 e Landschaft\, direkt an der Ostesee! Der Trailrun führt durch die absolu
 ten Höhepunkte der Weltnaturerbelandschaft. Eine einzigartige Gelegenheit
  die Trails und die Natur der Höga Kusta näher kennenzulernen.
ATTACH;FMTTYPE=image/jpeg:https://xc-run.de/wp-content/uploads/2025/07/Kal
 enderOhne.jpg
CATEGORIES:Trailevents
LOCATION:Höga Kusta\, Skuleberget\, Schweden
GEO:63.083333;18.35
X-APPLE-STRUCTURED-LOCATION;VALUE=URI;X-ADDRESS=Skuleberget\, Schweden;X-AP
 PLE-RADIUS=100;X-TITLE=Höga Kusta:geo:63.083333,18.35
END:VEVENT
BEGIN:VTIMEZONE
TZID:Europe/Berlin
X-LIC-LOCATION:Europe/Berlin
BEGIN:DAYLIGHT
DTSTART:20260329T030000
TZOFFSETFROM:+0100
TZOFFSETTO:+0200
TZNAME:CEST
END:DAYLIGHT
END:VTIMEZONE
END:VCALENDAR