BEGIN:VCALENDAR
VERSION:2.0
PRODID:-//wp-events-plugin.com//7.2.3.1//EN
TZID:Europe/Berlin
X-WR-TIMEZONE:Europe/Berlin
BEGIN:VEVENT
UID:345@xc-run.de
DTSTART;TZID=Europe/Berlin;VALUE=DATE:20260626
DTEND;TZID=Europe/Berlin;VALUE=DATE:20260628
DTSTAMP:20251109T201400Z
URL:https://xc-run.de/events/eventkalender/hofer-backyard-ultra/
SUMMARY:Hofer Backyard Ultra
DESCRIPTION:Die Spielregeln sind mittlerweile bekannt: Eine Runde ist 4\,16
 7 Meilen (6\,706 km) lang und jede Stunde wird eine neue Runde eingeläute
 t. Da nach der Regel "last man standing" verfahren wird\, ist das Ende der
  Veranstaltung meistens offen.
ATTACH;FMTTYPE=image/jpeg:https://xc-run.de/wp-content/uploads/2025/07/Kal
 enderOhne.jpg
CATEGORIES:Backyard
LOCATION:Hof\, wird noch bekanntgegeben\, Hof\, Bayern\, Deutschland
GEO:50.313539;11.912781
X-APPLE-STRUCTURED-LOCATION;VALUE=URI;X-ADDRESS=wird noch bekanntgegeben\, 
 Hof\, Bayern\, Deutschland;X-APPLE-RADIUS=100;X-TITLE=Hof:geo:50.313539,11
 .912781
END:VEVENT
BEGIN:VTIMEZONE
TZID:Europe/Berlin
X-LIC-LOCATION:Europe/Berlin
BEGIN:DAYLIGHT
DTSTART:20260329T030000
TZOFFSETFROM:+0100
TZOFFSETTO:+0200
TZNAME:CEST
END:DAYLIGHT
END:VTIMEZONE
END:VCALENDAR