BEGIN:VCALENDAR
VERSION:2.0
PRODID:-//wp-events-plugin.com//7.2.3.1//EN
TZID:Europe/Berlin
X-WR-TIMEZONE:Europe/Berlin
BEGIN:VEVENT
UID:184@xc-run.de
DTSTART;TZID=Europe/Berlin;VALUE=DATE:20260703
DTEND;TZID=Europe/Berlin;VALUE=DATE:20260705
DTSTAMP:20251024T193304Z
URL:https://xc-run.de/events/eventkalender/https-bernina-ultraks-com-race/
SUMMARY:Bernina Ultraks
DESCRIPTION:Die Atemberaubende Bergwelt des Oberengadin ist die Heimat des 
 Bernina Ultraks. Ausgangspunkt dieser Veranstaltung ist Pontresina\, das a
 uf 1.805 m in einem Oberengadiner Seitental liegt. Die beiden markantesten
  und auch berühmtesten Gipfel sind der Piz Palü und der Piz Bernina\, de
 r mit einer Höhe von 4.049m der höchste Gipfel der Ostalpen ist.
ATTACH;FMTTYPE=image/jpeg:https://xc-run.de/wp-content/uploads/2025/07/Kal
 enderOhne.jpg
CATEGORIES:Trailevents
LOCATION:Pontresina\, Via Maistra\, Pontresina\, Graubünden\, 7504\, Obere
 ngadin\, Schweiz
GEO:46.495294;9.900066
X-APPLE-STRUCTURED-LOCATION;VALUE=URI;X-ADDRESS=Via Maistra\, Pontresina\, 
 Graubünden\, 7504\, Oberengadin\, Schweiz;X-APPLE-RADIUS=100;X-TITLE=Pont
 resina:geo:46.495294,9.900066
END:VEVENT
BEGIN:VTIMEZONE
TZID:Europe/Berlin
X-LIC-LOCATION:Europe/Berlin
BEGIN:DAYLIGHT
DTSTART:20260329T030000
TZOFFSETFROM:+0100
TZOFFSETTO:+0200
TZNAME:CEST
END:DAYLIGHT
END:VTIMEZONE
END:VCALENDAR