BEGIN:VCALENDAR
VERSION:2.0
PRODID:-//wp-events-plugin.com//7.2.3.1//EN
TZID:Europe/Berlin
X-WR-TIMEZONE:Europe/Berlin
BEGIN:VEVENT
UID:165@xc-run.de
DTSTART;TZID=Europe/Berlin;VALUE=DATE:20260715
DTEND;TZID=Europe/Berlin;VALUE=DATE:20260720
DTSTAMP:20250813T104400Z
URL:https://xc-run.de/events/eventkalender/https-www-eigerultratrail-ch-de
 /
SUMMARY:Eiger Ultra Trail by UTMB
DESCRIPTION:Der Eiger 3970m und dessen Nordwand faszinieren sowohl Bergstei
 ger als auch Trail Runner gleichermaßen. Mit sechs unterschiedlichen Dist
 anzen ist für jeden Läufertypus etwas dabei. Und für Teamläufer gibt e
 s mit dem E250 noch ein besonderes Highlight:\n\nE250 - Imposante Bergkett
 en\, urige Täler und das grösste zusammenhängende vergletscherte Gebiet
  der Alpen - Dies ist ein Welterbe von universalem Wert. Beim UNESCO Jungf
 rau-Aletsch Trail können die Teilnehmer im 2er oder 3er Team das UNESCO-W
 elterbe Swiss Alps Jungfrau-Aletsch umrunden und entdecken. Dabei müssen 
 18.000 HM überwunden werden.
ATTACH;FMTTYPE=image/jpeg:https://xc-run.de/wp-content/uploads/2025/07/UTM
 B.jpg
CATEGORIES:Etappenrennen,Trailevents,UTMB World Series
LOCATION:Eiger Ultra Trail\, Dorfstrasse 179\, Grindelwald\, Schweiz\, 3818
 \, Bern\, Schweiz
GEO:46.6244999;8.041690099999983
X-APPLE-STRUCTURED-LOCATION;VALUE=URI;X-ADDRESS=Dorfstrasse 179\, Grindelwa
 ld\, Schweiz\, 3818\, Bern\, Schweiz;X-APPLE-RADIUS=100;X-TITLE=Eiger Ultr
 a Trail:geo:46.6244999,8.041690099999983
END:VEVENT
BEGIN:VTIMEZONE
TZID:Europe/Berlin
X-LIC-LOCATION:Europe/Berlin
BEGIN:DAYLIGHT
DTSTART:20260329T030000
TZOFFSETFROM:+0100
TZOFFSETTO:+0200
TZNAME:CEST
END:DAYLIGHT
END:VTIMEZONE
END:VCALENDAR