BEGIN:VCALENDAR
VERSION:2.0
PRODID:-//wp-events-plugin.com//7.2.3.1//EN
TZID:Europe/Berlin
X-WR-TIMEZONE:Europe/Berlin
BEGIN:VEVENT
UID:337@xc-run.de
DTSTART;TZID=Europe/Berlin;VALUE=DATE:20260703
DTEND;TZID=Europe/Berlin;VALUE=DATE:20260705
DTSTAMP:20260310T113007Z
URL:https://xc-run.de/events/eventkalender/https-www-stubai-at-ultratrail-
 copy/
SUMMARY:Stubai Ultratrail
DESCRIPTION:Der Event Stubai Ultratrail hält auch 2026 etwas neues parat. 
 Mit dem Stubai 100 gibt es die ultimative Herausforderung im Herzen der Al
 pen. Zum ersten Mal wird eine 100 Kilometerlange Strecke in der Geschicht
 e des Stubai Ultratrails zur Auswahl stehen. Start und Ziel liegen im
  Ortskern von Neustift. Beim Stubai 100 gilt es 5.800 Höhenmeter im
  Auf- und Abstieg zu bewältigen. Der Lauf führt über Wiesen- und 
 Waldtrails\, alpine Passagen mit Steinplatten\, schmale Steige und Sc
 hotterwege durch alle fünf Gemeinden des Tals. Ein Trailrun\, der mit
  idyllischen Seitentälern\, den imposanten Kalkkögeln\, den schroffen
  Türmen des Elfers und einem Blick auf die Gletscher am Talschluss di
 e gesamte Palette alpiner Schönheit vereint. Der Stubai 100 ist für 
 all jene\, die Grenzen suchen und Größe finden. Daneben gibt es vier wei
 tere Strecken mit einer Länge von 14km bis 57km.
ATTACH;FMTTYPE=image/jpeg:https://xc-run.de/wp-content/uploads/2025/05/Gro
 ss-The-countdown-is-on-Over-1000-participants-and-50-days-to-go-until-the-
 Stubai-Ultratrail-2025-powered-by-SCOTT-1.jpeg
CATEGORIES:Trailevents
LOCATION:Stubaitalhaus\, Dorf 3\, Neustift\, Tirol\, 6167\, Stubaital\, Ös
 terreich
GEO:47.111056;11.307724
X-APPLE-STRUCTURED-LOCATION;VALUE=URI;X-ADDRESS=Dorf 3\, Neustift\, Tirol\,
  6167\, Stubaital\, Österreich;X-APPLE-RADIUS=100;X-TITLE=Stubaitalhaus:g
 eo:47.111056,11.307724
END:VEVENT
BEGIN:VTIMEZONE
TZID:Europe/Berlin
X-LIC-LOCATION:Europe/Berlin
BEGIN:DAYLIGHT
DTSTART:20260329T030000
TZOFFSETFROM:+0100
TZOFFSETTO:+0200
TZNAME:CEST
END:DAYLIGHT
END:VTIMEZONE
END:VCALENDAR