BEGIN:VCALENDAR
VERSION:2.0
PRODID:-//wp-events-plugin.com//7.2.3.1//EN
TZID:Europe/Berlin
X-WR-TIMEZONE:Europe/Berlin
BEGIN:VEVENT
UID:334@xc-run.de
DTSTART;TZID=Europe/Berlin;VALUE=DATE:20260626
DTEND;TZID=Europe/Berlin;VALUE=DATE:20260628
DTSTAMP:20251206T185735Z
URL:https://xc-run.de/events/eventkalender/https-www-wilderkaiser-info-de-
 aktivitaeten-kaiserkrone-trail-html-copy/
SUMMARY:Kaiserkrone Trail
DESCRIPTION:Am 26. und 27. Juni 2026 wird der Wilde Kaiser erneut zur beein
 druckenden Kulisse für eines der vielseitigsten Trailrunning-Events im Al
 penraum: den Kaiserkrone Trail in Scheffau am Wilden Kaiser. Über 800 Tei
 lnehmer:innen im Jahr 2025 und die Rückmeldungen aus der Szene zeigen: Di
 eses Event hat sich als Fixpunkt im internationalen Trailrunning-Kalender 
 etabliert. Neben der Komplettstrecke mit 56 km werden auch ein Skyrace und
  drei weitere Distanzen angeboten.
ATTACH;FMTTYPE=image/jpeg:https://xc-run.de/wp-content/uploads/2022/10/©w
 isthaler_25_06_kaiserkrone__HW99685.jpg
CATEGORIES:Skyrunning,Trailevents
LOCATION:Scheffau am Wilden Kaiser\, Dorf 45\, Scheffau am Wilden Kaiser\, 
 Tirol\, 6351\, Wilder Kaiser\, Österreich
GEO:47.528622;12.249269
X-APPLE-STRUCTURED-LOCATION;VALUE=URI;X-ADDRESS=Dorf 45\, Scheffau am Wilde
 n Kaiser\, Tirol\, 6351\, Wilder Kaiser\, Österreich;X-APPLE-RADIUS=100;X
 -TITLE=Scheffau am Wilden Kaiser:geo:47.528622,12.249269
END:VEVENT
BEGIN:VTIMEZONE
TZID:Europe/Berlin
X-LIC-LOCATION:Europe/Berlin
BEGIN:DAYLIGHT
DTSTART:20260329T030000
TZOFFSETFROM:+0100
TZOFFSETTO:+0200
TZNAME:CEST
END:DAYLIGHT
END:VTIMEZONE
END:VCALENDAR