BEGIN:VCALENDAR
VERSION:2.0
PRODID:-//wp-events-plugin.com//7.2.3.1//EN
TZID:Europe/Berlin
X-WR-TIMEZONE:Europe/Berlin
BEGIN:VEVENT
UID:386@xc-run.de
DTSTART;TZID=Europe/Berlin;VALUE=DATE:20260815
DTEND;TZID=Europe/Berlin;VALUE=DATE:20260817
DTSTAMP:20251012T192059Z
URL:https://xc-run.de/events/eventkalender/hubut-hunsbuckel-trail/
SUMMARY:HuBuT Hunsbuckel Trail
DESCRIPTION:Der Traillauf über Deutschlands schönste Hängeseilbrücke "G
 eierlay" - und auch ansonsten hat der HuBuT im Herzen des Hunsrück einige
 s zu bieten. Verwunschene Singletrails und märchenhafte Wanderwege sind d
 as Kennzeichen dieser Veranstaltung mit drei Strecken zwischen 12km und 47
 km.
ATTACH;FMTTYPE=image/jpeg:https://xc-run.de/wp-content/uploads/2025/07/Kal
 enderOhne.jpg
CATEGORIES:Trailevents
LOCATION:HuBuT\, Marktplatz Laubach\, Laubach\, Deutschland
GEO:50.542338;8.990249
X-APPLE-STRUCTURED-LOCATION;VALUE=URI;X-ADDRESS=Marktplatz Laubach\, Laubac
 h\, Deutschland;X-APPLE-RADIUS=100;X-TITLE=HuBuT:geo:50.542338,8.990249
END:VEVENT
BEGIN:VTIMEZONE
TZID:Europe/Berlin
X-LIC-LOCATION:Europe/Berlin
BEGIN:DAYLIGHT
DTSTART:20260329T030000
TZOFFSETFROM:+0100
TZOFFSETTO:+0200
TZNAME:CEST
END:DAYLIGHT
END:VTIMEZONE
END:VCALENDAR