BEGIN:VCALENDAR
VERSION:2.0
PRODID:-//wp-events-plugin.com//7.2.3.1//EN
TZID:Europe/Berlin
X-WR-TIMEZONE:Europe/Berlin
BEGIN:VEVENT
UID:555@xc-run.de
DTSTART;TZID=Europe/Berlin;VALUE=DATE:20260620
DTEND;TZID=Europe/Berlin;VALUE=DATE:20260622
DTSTAMP:20251126T205530Z
URL:https://xc-run.de/events/eventkalender/hunsrueck-trail/
SUMMARY:Hunsrück-Trail
DESCRIPTION:Klein aber fein ist die Veranstaltung "Hunsrück-Trail" die vom
  TuS Mörschied veranstaltet wird. Im nächsten Jahr feiert dieser Event s
 ein 10.jähriges Jubiläum und bietet dabei drei unterschiedliche Distanze
 n an.
ATTACH;FMTTYPE=image/jpeg:https://xc-run.de/wp-content/uploads/2025/07/Kal
 enderOhne.jpg
CATEGORIES:Trailevents
LOCATION:Mörschied\, Sportlerheim TUS Mörschied\, Mörschied\, Deutschlan
 d
GEO:49.787154;7.296492
X-APPLE-STRUCTURED-LOCATION;VALUE=URI;X-ADDRESS=Sportlerheim TUS Mörschied
 \, Mörschied\, Deutschland;X-APPLE-RADIUS=100;X-TITLE=Mörschied:geo:49.7
 87154,7.296492
END:VEVENT
BEGIN:VTIMEZONE
TZID:Europe/Berlin
X-LIC-LOCATION:Europe/Berlin
BEGIN:DAYLIGHT
DTSTART:20260329T030000
TZOFFSETFROM:+0100
TZOFFSETTO:+0200
TZNAME:CEST
END:DAYLIGHT
END:VTIMEZONE
END:VCALENDAR