BEGIN:VCALENDAR
VERSION:2.0
PRODID:-//wp-events-plugin.com//7.2.3.1//EN
TZID:Europe/Berlin
X-WR-TIMEZONE:Europe/Berlin
BEGIN:VEVENT
UID:575@xc-run.de
DTSTART;TZID=Europe/Berlin;VALUE=DATE:20260822
DTEND;TZID=Europe/Berlin;VALUE=DATE:20260823
DTSTAMP:20260416T095637Z
URL:https://xc-run.de/events/eventkalender/idre-fjaellmaraton/
SUMMARY:Idre Fjällmaraton
DESCRIPTION:"Werde unbesiegbar" - das Motto des Idre Fjällmaraton in der w
 ilden Landschaft Schwedens! Ein Motto das aufhorchen lässt und auch die E
 rklärung ist eine Hommage ans Trailrunning
ATTACH;FMTTYPE=image/jpeg:https://xc-run.de/wp-content/uploads/2025/07/Kal
 enderOhne.jpg
CATEGORIES:Trailevents
LOCATION:Idre\, Idre\, 
GEO:61.857934;12.725874
X-APPLE-STRUCTURED-LOCATION;VALUE=URI;X-ADDRESS=Idre\, ;X-APPLE-RADIUS=100;
 X-TITLE=Idre:geo:61.857934,12.725874
END:VEVENT
BEGIN:VTIMEZONE
TZID:Europe/Berlin
X-LIC-LOCATION:Europe/Berlin
BEGIN:DAYLIGHT
DTSTART:20260329T030000
TZOFFSETFROM:+0100
TZOFFSETTO:+0200
TZNAME:CEST
END:DAYLIGHT
END:VTIMEZONE
END:VCALENDAR