BEGIN:VCALENDAR
VERSION:2.0
PRODID:-//wp-events-plugin.com//7.2.3.1//EN
TZID:Europe/Berlin
X-WR-TIMEZONE:Europe/Berlin
BEGIN:VEVENT
UID:438@xc-run.de
DTSTART;TZID=Europe/Berlin;VALUE=DATE:20261011
DTEND;TZID=Europe/Berlin;VALUE=DATE:20261012
DTSTAMP:20251225T164409Z
URL:https://xc-run.de/events/eventkalender/jenner-berglauf/
SUMMARY:Jenner Berglauf
DESCRIPTION:Etwas mehr als acht Kilometer und 1.200 HM sind die Rahmenbedin
 gungen des Jenner Berglauf. Der Jenner ist ein markanter Aussichtsberg hoc
 h über Berchtesgaden und steht vis a vis des weltbekannten Watzmannmassiv
 s.
ATTACH;FMTTYPE=image/jpeg:https://xc-run.de/wp-content/uploads/2025/07/Kal
 enderOhne.jpg
CATEGORIES:Berglauf
LOCATION:Schönau am Königssee\, Jennerbahnstraße\, Königssee\, Bayern\,
  Oberland\, Deutschland
GEO:47.591242;12.992744
X-APPLE-STRUCTURED-LOCATION;VALUE=URI;X-ADDRESS=Jennerbahnstraße\, Königs
 see\, Bayern\, Oberland\, Deutschland;X-APPLE-RADIUS=100;X-TITLE=Schönau 
 am Königssee:geo:47.591242,12.992744
END:VEVENT
BEGIN:VTIMEZONE
TZID:Europe/Berlin
X-LIC-LOCATION:Europe/Berlin
BEGIN:DAYLIGHT
DTSTART:20260329T030000
TZOFFSETFROM:+0100
TZOFFSETTO:+0200
TZNAME:CEST
END:DAYLIGHT
END:VTIMEZONE
END:VCALENDAR