BEGIN:VCALENDAR
VERSION:2.0
PRODID:-//wp-events-plugin.com//7.2.3.1//EN
TZID:Europe/Berlin
X-WR-TIMEZONE:Europe/Berlin
BEGIN:VEVENT
UID:588@xc-run.de
DTSTART;TZID=Europe/Berlin;VALUE=DATE:20260627
DTEND;TZID=Europe/Berlin;VALUE=DATE:20260628
DTSTAMP:20260417T135930Z
URL:https://xc-run.de/events/eventkalender/kainuu-trail/
SUMMARY:Kainuu Trail
DESCRIPTION:Der Kainuu Trail im Hossa-Nationalpark (Finnland) ist ein Trail
 running-Event im Paradies für Trailrunner – dem Hossa-Nationalpark. Die
  Teilnehmer des Kainuu Trails erleben die schönsten Trails und Terrains\,
  die atemberaubendsten Landschaften und die legendärsten Sehenswürdigkei
 ten des Hossa-Nationalparks – und all das an einem einzigen Renntag.\n
ATTACH;FMTTYPE=image/jpeg:https://xc-run.de/wp-content/uploads/2025/07/Kal
 enderOhne.jpg
CATEGORIES:Trailevents
LOCATION:Kajaani\, Kajaani\, Finnland
GEO:64.222178;27.72785
X-APPLE-STRUCTURED-LOCATION;VALUE=URI;X-ADDRESS=Kajaani\, Finnland;X-APPLE-
 RADIUS=100;X-TITLE=Kajaani:geo:64.222178,27.72785
END:VEVENT
BEGIN:VTIMEZONE
TZID:Europe/Berlin
X-LIC-LOCATION:Europe/Berlin
BEGIN:DAYLIGHT
DTSTART:20260329T030000
TZOFFSETFROM:+0100
TZOFFSETTO:+0200
TZNAME:CEST
END:DAYLIGHT
END:VTIMEZONE
END:VCALENDAR