BEGIN:VCALENDAR
VERSION:2.0
PRODID:-//wp-events-plugin.com//7.2.3.1//EN
TZID:Europe/Berlin
X-WR-TIMEZONE:Europe/Berlin
BEGIN:VEVENT
UID:590@xc-run.de
DTSTART;TZID=Europe/Berlin;VALUE=DATE:20260926
DTEND;TZID=Europe/Berlin;VALUE=DATE:20260927
DTSTAMP:20260421T122432Z
URL:https://xc-run.de/events/eventkalender/kalkkoegeltrail/
SUMMARY:Kalkkögeltrail
DESCRIPTION:Im September 2026 geht die dritte Auflage des Kalkkögeltrails 
 in Telfes über die Bühne: Der Trail in den "Dolomiten Nordtirols" lockt 
 ambitionierte Läuferinnen und Läufer in die beeindruckende Bergwelt der 
 Kalkkögel. Mit abwechslungsreichen Strecken\, spektakulären Panoramen un
 d sportlicher Herausforderung ist dieses Event ein Highlight für alle\, d
 ie Natur und Ausdauer perfekt verbinden möchten.
ATTACH;FMTTYPE=image/jpeg:https://xc-run.de/wp-content/uploads/2025/07/Kal
 enderOhne.jpg
CATEGORIES:Trailevents
LOCATION:Telfes\, telfes\, Österreich
GEO:47.16391;11.35881
X-APPLE-STRUCTURED-LOCATION;VALUE=URI;X-ADDRESS=telfes\, Österreich;X-APPL
 E-RADIUS=100;X-TITLE=Telfes:geo:47.16391,11.35881
END:VEVENT
BEGIN:VTIMEZONE
TZID:Europe/Berlin
X-LIC-LOCATION:Europe/Berlin
BEGIN:DAYLIGHT
DTSTART:20260329T030000
TZOFFSETFROM:+0100
TZOFFSETTO:+0200
TZNAME:CEST
END:DAYLIGHT
END:VTIMEZONE
END:VCALENDAR