BEGIN:VCALENDAR
VERSION:2.0
PRODID:-//wp-events-plugin.com//7.2.3.1//EN
TZID:Europe/Berlin
X-WR-TIMEZONE:Europe/Berlin
BEGIN:VEVENT
UID:348@xc-run.de
DTSTART;TZID=Europe/Berlin;VALUE=DATE:20260806
DTEND;TZID=Europe/Berlin;VALUE=DATE:20260809
DTSTAMP:20251106T133530Z
URL:https://xc-run.de/events/eventkalender/kat-100-oesterreichs-laengster-
 ultra-trail-copy/
SUMMARY:KAT100 by UTMB - Österreichs längster Ultra Trail
DESCRIPTION:Der KAT100 by UTMB führt die Läufer ausgehend vom Veranstaltu
 ngsort Fieberbrunn über die schönsten und fordernsten Gipfel der berühm
 ten Kitzbüheler Alpen und ist ein Tribut an die Leidenschaft zum Lauf und
  zur Natur. Fünf Distanzen mit Strecken zwischen 100 Meilen und 8km stehe
 n zur Auswahl.
ATTACH;FMTTYPE=image/jpeg:https://xc-run.de/wp-content/uploads/2023/02/Gro
 ss-KAT100-by-UTMB-c-TVB-PillerseeTal_Andi-Frank-9.jpeg
CATEGORIES:Trailevents,UTMB World Series
LOCATION:Fieberbrunn\, Dorfplatz 1\, Fieberbrunn\, Tirol\, 6391\, Pillersee
 tal\, Österreich
GEO:47.47681;12.5444
X-APPLE-STRUCTURED-LOCATION;VALUE=URI;X-ADDRESS=Dorfplatz 1\, Fieberbrunn\,
  Tirol\, 6391\, Pillerseetal\, Österreich;X-APPLE-RADIUS=100;X-TITLE=Fieb
 erbrunn:geo:47.47681,12.5444
END:VEVENT
BEGIN:VTIMEZONE
TZID:Europe/Berlin
X-LIC-LOCATION:Europe/Berlin
BEGIN:DAYLIGHT
DTSTART:20260329T030000
TZOFFSETFROM:+0100
TZOFFSETTO:+0200
TZNAME:CEST
END:DAYLIGHT
END:VTIMEZONE
END:VCALENDAR